BEGIN:VCALENDAR
VERSION:2.0
PRODID:-//Ojai &amp; Southern California Herb Walks with Lanny Kaufer - ECPv6.15.20//NONSGML v1.0//EN
CALSCALE:GREGORIAN
METHOD:PUBLISH
X-ORIGINAL-URL:https://herbwalks.com
X-WR-CALDESC:Events for Ojai &amp; Southern California Herb Walks with Lanny Kaufer
REFRESH-INTERVAL;VALUE=DURATION:PT1H
X-Robots-Tag:noindex
X-PUBLISHED-TTL:PT1H
BEGIN:VTIMEZONE
TZID:America/Los_Angeles
BEGIN:DAYLIGHT
TZOFFSETFROM:-0800
TZOFFSETTO:-0700
TZNAME:PDT
DTSTART:20230312T100000
END:DAYLIGHT
BEGIN:STANDARD
TZOFFSETFROM:-0700
TZOFFSETTO:-0800
TZNAME:PST
DTSTART:20231105T090000
END:STANDARD
BEGIN:DAYLIGHT
TZOFFSETFROM:-0800
TZOFFSETTO:-0700
TZNAME:PDT
DTSTART:20240310T100000
END:DAYLIGHT
BEGIN:STANDARD
TZOFFSETFROM:-0700
TZOFFSETTO:-0800
TZNAME:PST
DTSTART:20241103T090000
END:STANDARD
BEGIN:DAYLIGHT
TZOFFSETFROM:-0800
TZOFFSETTO:-0700
TZNAME:PDT
DTSTART:20250309T100000
END:DAYLIGHT
BEGIN:STANDARD
TZOFFSETFROM:-0700
TZOFFSETTO:-0800
TZNAME:PST
DTSTART:20251102T090000
END:STANDARD
END:VTIMEZONE
BEGIN:VEVENT
DTSTART;TZID=America/Los_Angeles:20240414T100000
DTEND;TZID=America/Los_Angeles:20240414T153000
DTSTAMP:20260425T191856
CREATED:20240326T181605Z
LAST-MODIFIED:20240411T164944Z
UID:14395-1713088800-1713108600@herbwalks.com
SUMMARY:Ojai Wild Food Experience with Lanny & Rondia
DESCRIPTION:Ojai Wild Food Experience with Lanny & Rondia\n\n\n\n\n\n\n\nPhoto: Wild salad from 2023 Wild Food Experience \n\n\n\nJUMP TO REGISTRATION\n\n\nNOTE: This is the rescheduled date for the March 30 event that was postponed due to rain forecast. Afternoon location has changed. Menu subject to change.\nPlease join me and my wife Rondia on Sunday\, April 14\, from 10 a.m. to 3:30 p.m. for our second Ojai Wild Food Experience. The day will begin with a morning foraging expedition on the grounds of Euterpe Farms’ outdoor study area overlooking the Ventura River Preserve. After the foraging walk and a mid-day break\, hands-on food processing activities will take place in Fisher Hall at St. Andrew’s Episcopal Church in Ojai to prepare a vegetarian community meal. Everyone will have a chance to participate in all activities. \nParticipants will learn to: \n\nidentify and forage edible plants of the season\nmake a salad with wild greens and flowers gathered on the property\nprepare a pasta dish with wild herbs gathered on the property\nprocess acorns for making acorn tortillas\nprepare elderflower fritters for dessert\nprocess wild black walnuts to top off the meal\n\nThere may be other activities\, depending on seasonal foods and supplies available.  I will have my book\, Medicinal Herbs of California\, available for sale and signing after the meal along with my entire mobile bookshop. \nValley oak acorns shelled and ready for processing\nRondia and Lanny Kaufer hiking in Palm Springs\n \n\n\n\n\n\n\n\n\n\n\n\n\n\n\nREGISTRATION\n\n\n\nPlease REGISTER HERE FIRST before completing payment below. \n\n\n\n	Notice: JavaScript is required for this content.\n\n\n    \n\n\n        \n        \n        \n\n\n\n\n\n\nTickets\n\n\n\nPlease be sure to REGISTER above before completing payment to secure your space. \n\n\n\n\n\n\n\n\n\n\n\n\n\n\n\n\n\n\n\nNote: Online payment includes a PayPal fee. If you prefer\, when you register you can request instructions for mailing a payment of $55/adult or $25/child under 18 (limit: one child per adult).If the event sells out\, PayPal will not accept your payment. You will see a message that says this event “is not available at this time” and you will be returned to this page. If that happens\, email register@herbwalks.com to sign up for the waiting list. If spaces become available they will be filled based on date and time of waiting list signup.Cancellation policy: We will refund your payment if you notify us up to 72 hours (3 days) before the start of the event. After that we will make every effort to fill your space but cannot guarantee it.
URL:https://herbwalks.com/event/wild-food-experience-2-2/
LOCATION:Euterpe Farms “tienda”\, 587 S. Rice Road\, Ojai\, CA\, 93023\, United States
ATTACH;FMTTYPE=image/jpeg:https://herbwalks.com/wp-content/uploads/2024/01/Wild-Food-Experience-salad-4-23-23-e1704742960823.jpg
END:VEVENT
END:VCALENDAR