BEGIN:VCALENDAR
VERSION:2.0
PRODID:-//Ojai &amp; Southern California Herb Walks with Lanny Kaufer - ECPv6.15.20//NONSGML v1.0//EN
CALSCALE:GREGORIAN
METHOD:PUBLISH
X-WR-CALNAME:Ojai &amp; Southern California Herb Walks with Lanny Kaufer
X-ORIGINAL-URL:https://herbwalks.com
X-WR-CALDESC:Events for Ojai &amp; Southern California Herb Walks with Lanny Kaufer
REFRESH-INTERVAL;VALUE=DURATION:PT1H
X-Robots-Tag:noindex
X-PUBLISHED-TTL:PT1H
BEGIN:VTIMEZONE
TZID:America/Los_Angeles
BEGIN:DAYLIGHT
TZOFFSETFROM:-0800
TZOFFSETTO:-0700
TZNAME:PDT
DTSTART:20230312T100000
END:DAYLIGHT
BEGIN:STANDARD
TZOFFSETFROM:-0700
TZOFFSETTO:-0800
TZNAME:PST
DTSTART:20231105T090000
END:STANDARD
BEGIN:DAYLIGHT
TZOFFSETFROM:-0800
TZOFFSETTO:-0700
TZNAME:PDT
DTSTART:20240310T100000
END:DAYLIGHT
BEGIN:STANDARD
TZOFFSETFROM:-0700
TZOFFSETTO:-0800
TZNAME:PST
DTSTART:20241103T090000
END:STANDARD
BEGIN:DAYLIGHT
TZOFFSETFROM:-0800
TZOFFSETTO:-0700
TZNAME:PDT
DTSTART:20250309T100000
END:DAYLIGHT
BEGIN:STANDARD
TZOFFSETFROM:-0700
TZOFFSETTO:-0800
TZNAME:PST
DTSTART:20251102T090000
END:STANDARD
END:VTIMEZONE
BEGIN:VEVENT
DTSTART;TZID=America/Los_Angeles:20240424T173000
DTEND;TZID=America/Los_Angeles:20240424T200000
DTSTAMP:20260425T191632
CREATED:20240304T000002Z
LAST-MODIFIED:20240326T232618Z
UID:14111-1713979800-1713988800@herbwalks.com
SUMMARY:April Full Moon Sunset Nature Hike & After-Party at Ojai Valley Brewery
DESCRIPTION:April Full Moon Sunset Nature Hike & After-Party at Ojai Valley Brewery\n\n\n\n\n\n\nPhoto of full moon rising through clouds over Ojai by Joe P. Powers \nPlease use the REGISTER button at top or bottom of this page to sign up before clicking on the PayPal link at the bottom of this page to secure your space. The PayPal cost includes their fee. If you prefer\, when you register you may request instructions for mailing a check for $35/person. Once registered you will receive a confirmation email with directions\, what to bring\, etc.\nIf the event sells out\, PayPal will not accept your payment. You will see a message that says this event “is not available at this time” and you will be returned to this page. If that happens\, be sure to click on the REGISTER button below to sign up for the waiting list. If spaces become available they will be filled based on date and time of waiting list signup.\nCancellation policy: I will refund your payment if you notify me up to 72 hours (3 days) before the start of the event. After that I will make every effort to fill your space (and I’m usually successful) but cannot guarantee.\nREGISTER\nOn Wednesday evening\, April 24\, from 5:30 to 8:00 p.m.\, my wife Rondia and I will lead a Full Moon Sunset Nature Hike to a vista point above the Ojai Valley where we can watch the simultaneous sunset and full moonrise. The sun will set and the full moon will rise at about 7:15 p.m.\, giving us a nice window of time to take it all in. The actual full moon time is late Tuesday afternoon\, so Wednesday night’s moon will appear just as full. Scheduling it on a Wednesday means we can have an optional “after-party” at the Ojai Valley Brewery (OVB) with hot food. That is one of the two nights a week they have a food truck onsite. Read more about that below. \nRegistrants will receive instructions on where to park. From the trailhead we’ll gradually walk about 1.5 miles on a well used dirt road with gradual elevation gain to the vista point\, stopping along the way to meet some valuable native plants including: \nBlue Elderberry\nWild Horehound\nBlack & Purple Sage\nCoastal Sagebrush\nYucca and\nPrickly-Pear \nAfter witnessing the setting of the sun and rising of the moon\, we’ll walk back to the trailhead by remaining daylight\, moonlight\, and flashlight\, returning to the trailhead at about 8:00. \nThe After-Party: Then at 8:15 p.m. you’re invited to join me and Rondia on Bryant Street at Ojai Valley Brewery’s heated outdoor dining area where brewmasters Jeremy Haffner\, Griffin Davis\, and their staff will be pouring their amazing locally-sourced beers\, ales. stouts and non-alcoholic beverages. They usually have a food truck on Wednesdays. If not\, Rondia will make chili for us to share. More updates here as they are posted on the OVB website. \nOVB brews change with the seasons and reflect the plants of Ojai. Three staples you’re likely to find on the list any time of year are Sugar Bush IPA\, brewed with wild local Ojai “Sugar Bush” Sumac; White Pixie Ale\, brewed with Pixie tangerine zests and orchard blossoms; and an amazing Chaparral Ale flavored and bittered with White and Black Sage and local Sagebrush instead of the usual Hops. Jeremy describes it as “built to mimic the scent on Shelf Road.” That’s where we’ll be walking! Non-alcoholic offerings also change with the seasons and may include an Elderflower-Blackberry Spritzer. \nREGISTRATION INFO:\nThe cost for the hike is $35/person. Senior\, student and child discounts are available. See PayPal button below. Paid registrants will receive a confirmation email a few days prior to the event with all necessary info\, including what to bring\, weather forecast\, and directions to the trailhead. Afterwards\, they also will receive a follow-up email with a list of all plants and wildlife seen. \nNo dogs or smoking\, please. \nMY WEATHER POLICY: Walks and hikes will go on RAIN OR SHINE unless there is a steady downpour on the morning of the event\, probability of thunderstorm\, or a solid forecast of either the day before. Light rain or drizzle will not result in cancellation on my part. I will update registrants by email and text\, as needed\, and issue refunds if I need to cancel because of the weather. \nPlease use the REGISTER button at top or bottom of this page to sign up before clicking on the PayPal link at the bottom of this page to secure your space. The PayPal cost includes their fee. If you prefer\, when you register you may request instructions for mailing a check for $35/person. Once registered you will receive a confirmation email with directions\, what to bring\, etc. \nIf the event sells out\, PayPal will not accept your payment. You will see a message that says this event “is not available at this time” and you will be returned to this page. If that happens\, be sure to click on the REGISTER button below to sign up for the waiting list. If spaces become available they will be filled based on date and time of waiting list signup.\nCancellation policy: I will refund your payment if you notify me up to 72 hours (3 days) before the start of the event. After that I will make every effort to fill your space (and I’m usually successful) but cannot guarantee.\nREGISTER\nPAYPAL BUTTON: \n\n  \n   \n\n\n\n        \n        Select Ticket Option (inc. PayPal fee):\n      \n\n\n\n        \n            Adult $36.71 USD\n          \n            Student (13-17) $26.36 USD\n          \n            Child (6-12) $18.60 USD
URL:https://herbwalks.com/event/april-full-moon-sunset-nature-hike-after-party/
LOCATION:Ojai\, Ojai\, California\, United States
ATTACH;FMTTYPE=image/jpeg:https://herbwalks.com/wp-content/uploads/2024/03/Full-Moon-behind-clouds-May-2023-Joe-P-Powers-e1709509713493.jpg
ORGANIZER;CN="Lanny Kaufer":MAILTO:register@herbwalks.com
END:VEVENT
END:VCALENDAR