BEGIN:VCALENDAR
VERSION:2.0
PRODID:-//Ojai &amp; Southern California Herb Walks with Lanny Kaufer - ECPv6.15.20//NONSGML v1.0//EN
CALSCALE:GREGORIAN
METHOD:PUBLISH
X-ORIGINAL-URL:https://herbwalks.com
X-WR-CALDESC:Events for Ojai &amp; Southern California Herb Walks with Lanny Kaufer
REFRESH-INTERVAL;VALUE=DURATION:PT1H
X-Robots-Tag:noindex
X-PUBLISHED-TTL:PT1H
BEGIN:VTIMEZONE
TZID:America/Los_Angeles
BEGIN:DAYLIGHT
TZOFFSETFROM:-0800
TZOFFSETTO:-0700
TZNAME:PDT
DTSTART:20230312T100000
END:DAYLIGHT
BEGIN:STANDARD
TZOFFSETFROM:-0700
TZOFFSETTO:-0800
TZNAME:PST
DTSTART:20231105T090000
END:STANDARD
BEGIN:DAYLIGHT
TZOFFSETFROM:-0800
TZOFFSETTO:-0700
TZNAME:PDT
DTSTART:20240310T100000
END:DAYLIGHT
BEGIN:STANDARD
TZOFFSETFROM:-0700
TZOFFSETTO:-0800
TZNAME:PST
DTSTART:20241103T090000
END:STANDARD
BEGIN:DAYLIGHT
TZOFFSETFROM:-0800
TZOFFSETTO:-0700
TZNAME:PDT
DTSTART:20250309T100000
END:DAYLIGHT
BEGIN:STANDARD
TZOFFSETFROM:-0700
TZOFFSETTO:-0800
TZNAME:PST
DTSTART:20251102T090000
END:STANDARD
END:VTIMEZONE
BEGIN:VEVENT
DTSTART;TZID=America/Los_Angeles:20240714T100000
DTEND;TZID=America/Los_Angeles:20240714T120000
DTSTAMP:20260425T143009
CREATED:20240605T040946Z
LAST-MODIFIED:20240708T231544Z
UID:15014-1720951200-1720958400@herbwalks.com
SUMMARY:Carpinteria Salt Marsh Herb Walk
DESCRIPTION:Carpinteria Salt Marsh Herb Walk\n\n\n\n\n\n\n\nJUMP TO REGISTRATION\n\n\n\nOn Sunday\, July 14\, from 10 a.m. to 12 p.m. we will return to the Carpinteria Salt Marsh Nature Park\, also known as El Estero\, a rare salt wetland in Southern California. Nearly destroyed by development\, the remaining estuary was restored in the late 1990s by a group of concerned citizens along with the City of Carpinteria\, UCSB\, and the Land Trust for Santa Barbara County. Completed in 1997\, the 8-acre portion of the marsh owned by the City of Carpinteria was renamed the Carpinteria Salt Marsh Nature Park. \n\n\n\nLeopard Shark. Video: Malia Smith\n\n\n\nThe park includes walking trails and interpretive signage. It is home to hundreds of migrating birds and other wildlife\, including exotic sharks\, rays and native fish when conditions are right. Depending on the tide level we may be able to see marine wildlife like the Shovelnose Guitarfish\, Round Stingrays\, Smoothhound Sharks or the Leopard Shark shown in Malia Smith’s video from our walk there in 2023. \n\n\n\nThere is a great variety of edible and medicinal plants of the Coastal Strand and Coastal Sage Scrub plant communities for us to see and learn from. Useful native plants there include Blue Elderberry\, California Blackberry\, Grindelia\, Lemonade Berry\, Mugwort\, Pickleweed\, Wild Rose\, and Coastal Sagebrush. \n\n\n\nDue to the sensitivity of the habitat\, dogs are prohibited here. No smoking\, please. \n\n\n\nIn addition to the adult tickets ($35)\, tickets for students 13-17 ($25) and children 6-12 ($15) are also available. One supervising adult must accompany each child 12 years of age or younger. \n\n\n\nCopies of my book\, Medicinal Herbs of California\, will be on hand for sale and signing before and after the walk. \n\n\n\nREGISTRATION\n\n\n\nPlease REGISTER HERE FIRST before completing payment below.\n\n\n\n	Notice: JavaScript is required for this content.\n\n\n    \n\n\n        \n        \n        \n\n\nTICKETS\n\n\n\nIf you haven’t already\, please REGISTER FIRST above before completing payment below.\n\n\n\n				\n					\n					\n					Carpinteria Salt Marsh Herb Walk / STUDENT\n				\n				$26.36\n				\n				Read more\n			\n				\n					\n					\n					Carpinteria Salt Marsh Herb Walk / CHILD\n				\n				$16.00\n				\n				Read more\n			\n\n\nNote: Online payment includes a PayPal fee. If you prefer\, when you register you can request instructions for mailing a payment of $35/adult\, $25/student\, or $15/child (one per adult) as long as there is still time for mail delivery. \n\n\n\nCancellation policy: I will refund your payment if you notify me up to 72 hours (3 days) before the start of the event. After that I will make every effort to fill your space (and I’m usually successful) but cannot guarantee.
URL:https://herbwalks.com/event/carpinteria-salt-marsh-herb-walk-3-2-2-2/
LOCATION:Carpinteria Salt Marsh Nature Park\, 123 Ash Ave.\, Carpinteria\, 93013\, United States
ATTACH;FMTTYPE=image/jpeg:https://herbwalks.com/wp-content/uploads/2021/06/IMG_9313-1-scaled-e1622677210893.jpg
ORGANIZER;CN="Lanny Kaufer":MAILTO:register@herbwalks.com
END:VEVENT
END:VCALENDAR