BEGIN:VCALENDAR
VERSION:2.0
PRODID:-//Ojai &amp; Southern California Herb Walks with Lanny Kaufer - ECPv6.15.20//NONSGML v1.0//EN
CALSCALE:GREGORIAN
METHOD:PUBLISH
X-WR-CALNAME:Ojai &amp; Southern California Herb Walks with Lanny Kaufer
X-ORIGINAL-URL:https://herbwalks.com
X-WR-CALDESC:Events for Ojai &amp; Southern California Herb Walks with Lanny Kaufer
REFRESH-INTERVAL;VALUE=DURATION:PT1H
X-Robots-Tag:noindex
X-PUBLISHED-TTL:PT1H
BEGIN:VTIMEZONE
TZID:America/Los_Angeles
BEGIN:DAYLIGHT
TZOFFSETFROM:-0800
TZOFFSETTO:-0700
TZNAME:PDT
DTSTART:20230312T100000
END:DAYLIGHT
BEGIN:STANDARD
TZOFFSETFROM:-0700
TZOFFSETTO:-0800
TZNAME:PST
DTSTART:20231105T090000
END:STANDARD
BEGIN:DAYLIGHT
TZOFFSETFROM:-0800
TZOFFSETTO:-0700
TZNAME:PDT
DTSTART:20240310T100000
END:DAYLIGHT
BEGIN:STANDARD
TZOFFSETFROM:-0700
TZOFFSETTO:-0800
TZNAME:PST
DTSTART:20241103T090000
END:STANDARD
BEGIN:DAYLIGHT
TZOFFSETFROM:-0800
TZOFFSETTO:-0700
TZNAME:PDT
DTSTART:20250309T100000
END:DAYLIGHT
BEGIN:STANDARD
TZOFFSETFROM:-0700
TZOFFSETTO:-0800
TZNAME:PST
DTSTART:20251102T090000
END:STANDARD
END:VTIMEZONE
BEGIN:VEVENT
DTSTART;TZID=America/Los_Angeles:20240922T090000
DTEND;TZID=America/Los_Angeles:20240922T120000
DTSTAMP:20260425T111618
CREATED:20240817T010155Z
LAST-MODIFIED:20240904T040301Z
UID:15336-1726995600-1727006400@herbwalks.com
SUMMARY:Fall Equinox Walkabout at Taft Gardens & Nature Preserve
DESCRIPTION:Fall Equinox Walkabout at Taft Gardens & Nature Preserve\n\n\n\n\n\n\n\n\n\nFour Directions Circle at the Vista on Taft Nature Preserve \n\n\n\nPlease note: This event is presented by the Conservation Endowment Fund (CEF)\, stewards of Taft Gardens & Nature Preserve. They are handling all registrations. To register for the event\, please visit TaftGardens.org or email taftgardensvisitors@gmail.com.  \n\n\n\nRegistrants will receive an email from CEF with detailed directions. Please do not try to find the venue by using other maps or GPS. Allow plenty of time to find the venue and to make your way up the miles-long driveway. \n\n\n\nPlease join me for a Fall Equinox Walkabout at Taft Gardens and Nature Preserve on Sunday\, September 22\, from 9 a.m. to 12 noon. “Walkabout” is a term rooted in traditional Australian culture\, symbolizing a temporary return to a simpler way of life\, often undertaken during intervals between modern societal obligations and usually involving a period of travel through the bush. That is the essence of what I have planned for you in observance of the Fall Equinox. \n\n\n\nOur walkabout will begin in the Australian section of the Gardens and ascend through the wild plant communities in the Nature Preserve to a vista point adorned with a four-directions stone circle on a mesa with a 360 degree view. There we will align with the four directions as we interact with the annual solar cycle and our own ancestral origins somewhere on Planet Earth. \n\n\n\nAs we do on my monthly Nature Education walks at the Taft Ranch\, together we will identify and discuss useful plants and observe birds and animal signs with a focus on survival in the wild. My intention is to create a space for people to connect with the natural world by learning the language of nature. \n\n\n\nABOUT TAFT GARDENS & NATURE PRESERVE:A project of the nonprofit Conservation Endowment Fund\, Taft Gardens and Nature Preserve was described for years as one of Ojai’s best-kept secrets. Not anymore! This botanical gem was featured in an L. A. Times article on “The 16 Most Beautiful and Inviting Public Gardens in Southern California” and included in the RedBook Magazine list of “The 12 Most Beautiful Botanical Gardens in the United States.”  \n\n\n\nABOUT LANNY KAUFER:Lanny Kaufer has been leading herb walks and nature hikes\, as well as foraging and medicinal plant workshops\, since 1976\, focusing on ethnobotany\, the academic term for the human uses of plants. He is the author of Medicinal Herbs of California\, published by Falcon Guides in December of 2021 and now in its third printing. Copies will be available for sale and signing after the walkabout.  \n\n\n\nPlease note: This event is presented by the Conservation Endowment Fund (CEF)\, stewards of Taft Gardens & Nature Preserve. They are handling all registrations. To register for the event\, please visit TaftGardens.org or email taftgardensvisitors@gmail.com.  \n\n\n\nRegistrants will receive an email from CEF with detailed directions. Please do not try to find the venue by using other maps or GPS. Allow plenty of time to find the venue and to make your way up the miles-long driveway.
URL:https://herbwalks.com/event/fall-equinox-walkabout-at-taft-gardens-nature-preserve-2/
LOCATION:Taft Gardens & Nature Preserve\, Ojai\, CA\, 93023\, United States
ORGANIZER;CN="Conservation Endowment Fund":MAILTO:taftgardensvisitors@gmail.com
END:VEVENT
END:VCALENDAR