BEGIN:VCALENDAR
VERSION:2.0
PRODID:-//Ojai &amp; Southern California Herb Walks with Lanny Kaufer - ECPv6.15.20//NONSGML v1.0//EN
CALSCALE:GREGORIAN
METHOD:PUBLISH
X-WR-CALNAME:Ojai &amp; Southern California Herb Walks with Lanny Kaufer
X-ORIGINAL-URL:https://herbwalks.com
X-WR-CALDESC:Events for Ojai &amp; Southern California Herb Walks with Lanny Kaufer
REFRESH-INTERVAL;VALUE=DURATION:PT1H
X-Robots-Tag:noindex
X-PUBLISHED-TTL:PT1H
BEGIN:VTIMEZONE
TZID:America/Los_Angeles
BEGIN:DAYLIGHT
TZOFFSETFROM:-0800
TZOFFSETTO:-0700
TZNAME:PDT
DTSTART:20230312T100000
END:DAYLIGHT
BEGIN:STANDARD
TZOFFSETFROM:-0700
TZOFFSETTO:-0800
TZNAME:PST
DTSTART:20231105T090000
END:STANDARD
BEGIN:DAYLIGHT
TZOFFSETFROM:-0800
TZOFFSETTO:-0700
TZNAME:PDT
DTSTART:20240310T100000
END:DAYLIGHT
BEGIN:STANDARD
TZOFFSETFROM:-0700
TZOFFSETTO:-0800
TZNAME:PST
DTSTART:20241103T090000
END:STANDARD
BEGIN:DAYLIGHT
TZOFFSETFROM:-0800
TZOFFSETTO:-0700
TZNAME:PDT
DTSTART:20250309T100000
END:DAYLIGHT
BEGIN:STANDARD
TZOFFSETFROM:-0700
TZOFFSETTO:-0800
TZNAME:PST
DTSTART:20251102T090000
END:STANDARD
END:VTIMEZONE
BEGIN:VEVENT
DTSTART;TZID=America/Los_Angeles:20241214T100000
DTEND;TZID=America/Los_Angeles:20241214T120000
DTSTAMP:20260425T062431
CREATED:20241030T210045Z
LAST-MODIFIED:20241030T210505Z
UID:15711-1734170400-1734177600@herbwalks.com
SUMMARY:Nature Education Walk at Taft Preserve
DESCRIPTION:Nature Education Walk at Taft Preserve\n\n\n\n\n\n\nPlease note: This event is presented by the Conservation Endowment Fund (CEF)\, stewards of Taft Gardens & Nature Preserve. They are handling all registrations. To register for the event\, please visit this page and select the date button for December 14 or email taftgardensvisitors@gmail.com.  \nRegistrants will receive an email from CEF with detailed directions. Please do not try to find the venue by using other maps or GPS. Allow plenty of time to find the venue and to make your way up the miles-long driveway. \nPlease join me for the monthly Nature Education Walks at Taft Gardens & Nature Preserve on Saturday\, December 14\, from 10:00 a.m. to 12:00 p.m.\, meeting at 9:45 a.m. We will explore trails through the wild parts of the property\, identify and discuss native plants\, and observe birds and animal tracks in the context of local ecology.  \nThis event is a perfect fit with my personal mission to open a space for people to connect with the natural world\, starting with the plant kingdom. The diversity of plant communities and native species make Taft Nature Preserve the ideal place. Taft Gardens & Nature Preserve was featured in an L. A. Times article on “The 16 Most Beautiful and Inviting Public Gardens in Southern California” and included in the RedBook Magazine list of “The 12 Most Beautiful Botanical Gardens in the United States.” \nThe $35 cost includes a $10 donation to benefit the CEF\, the non-profit steward of Taft Gardens & Nature Preserve. The donation portion of the fee is tax-deductible.  \nI will have my mobile bookshop onsite after the walk\, including my book\, Medicinal Herbs of California\, and Milt McAuley’s classic Wildflowers of the Santa Monica Mountains which features every plant we will see. \nPlease plan on leaving dogs and cigarettes at home. Thanks!
URL:https://herbwalks.com/event/december-2024-nature-education-walk-at-taft-nature-preserve/
LOCATION:Taft Gardens & Nature Preserve\, Ojai\, CA\, 93023\, United States
ATTACH;FMTTYPE=image/jpeg:https://herbwalks.com/wp-content/uploads/2024/04/IMG_1755-scaled-e1713563226327.jpeg
ORGANIZER;CN="Taft Gardens & Nature Preserve":MAILTO:taftgardensvisitors@gmail.com
END:VEVENT
END:VCALENDAR