BEGIN:VCALENDAR
VERSION:2.0
PRODID:-//Ojai &amp; Southern California Herb Walks with Lanny Kaufer - ECPv6.15.20//NONSGML v1.0//EN
CALSCALE:GREGORIAN
METHOD:PUBLISH
X-ORIGINAL-URL:https://herbwalks.com
X-WR-CALDESC:Events for Ojai &amp; Southern California Herb Walks with Lanny Kaufer
REFRESH-INTERVAL;VALUE=DURATION:PT1H
X-Robots-Tag:noindex
X-PUBLISHED-TTL:PT1H
BEGIN:VTIMEZONE
TZID:America/Los_Angeles
BEGIN:DAYLIGHT
TZOFFSETFROM:-0800
TZOFFSETTO:-0700
TZNAME:PDT
DTSTART:20240310T100000
END:DAYLIGHT
BEGIN:STANDARD
TZOFFSETFROM:-0700
TZOFFSETTO:-0800
TZNAME:PST
DTSTART:20241103T090000
END:STANDARD
BEGIN:DAYLIGHT
TZOFFSETFROM:-0800
TZOFFSETTO:-0700
TZNAME:PDT
DTSTART:20250309T100000
END:DAYLIGHT
BEGIN:STANDARD
TZOFFSETFROM:-0700
TZOFFSETTO:-0800
TZNAME:PST
DTSTART:20251102T090000
END:STANDARD
BEGIN:DAYLIGHT
TZOFFSETFROM:-0800
TZOFFSETTO:-0700
TZNAME:PDT
DTSTART:20260308T100000
END:DAYLIGHT
BEGIN:STANDARD
TZOFFSETFROM:-0700
TZOFFSETTO:-0800
TZNAME:PST
DTSTART:20261101T090000
END:STANDARD
END:VTIMEZONE
BEGIN:VEVENT
DTSTART;TZID=America/Los_Angeles:20250125T120000
DTEND;TZID=America/Los_Angeles:20250125T130000
DTSTAMP:20260425T050731
CREATED:20250112T191816Z
LAST-MODIFIED:20250121T223931Z
UID:16094-1737806400-1737810000@herbwalks.com
SUMMARY:Lanny's Slideshow Talk at Native Plant Fest
DESCRIPTION:Lanny’s Slideshow Talk at Native Plant Fest\n\n\n\n\n\n\n\n \n\n\n\nI’ll be giving a slideshow talk on edible and medicinal native plants at 12 noon at the 4th Annual Native Plant Fest on the grounds of the Oxnard Performing Arts Center (OPAC).  \n\n\n\nThe Native Plant Fest is a free event that runs from 11 a.m to 4 p.m. and brings together our community to celebrate and showcase local plant-inspired culture\, food\, traditions\, and creativity! This festival is community-led by plant enthusiasts of diverse backgrounds who will share their plants\, services\, artwork\, culinary creations\, products\, educational resources\, and much more! \n\n\n\nNovember through the Spring is prime native planting season in California and OPAC wants to bring together seasoned and newbie plant aficionados for this special event.Guests will enjoy: \n\n\n\n\n\nAn Opening Blessing and Land Acknowledgment\n\n\n\nVendors selling art\, crafts\, plants\, garden accessories\, food\, and more!\n\n\n\nInteractive activities and art-making\n\n\n\nFood Trucks\n\n\n\nEducational speakers and workshops (including my talk)\n\n\n\nNonprofit exhibitors offering free plants\, information and resources\n\n\n\nSpecial musical performances\n\n\n\n\nThere’s plenty for kids to do too\, such as making seed bombs\, flower crowns and much\, much more. \n\n\n\nSpeaker presentations\, including mine at 12 p.m.\, are presented by ¡ANDALE! Wellness + Creativity for everyone\, a fun and engaging program that is focused on promoting overall well-being and unleashing your creativity! Exciting activities and workshops designed to help you relax\, recharge\, and get inspired. Whether you’re a seasoned wellness enthusiast or just looking to explore your creative side\, this event has something for everyone \n\n\n\n¡ANDALE! is funded by Ventura County Behavioral Health in hope to bring awareness to Mental Health to the local community. ¡ANDALE! also is telling the community about SOLANA and Brightspark\, two apps that are free for people ages 5-12 and 12-25 as a free counselor app. \n\n\n\n¡ANDALE! is a monthly program but for the month of January it will be pairing with Native Plant Fest 2025 by bringing activities and workshops that will spark creativity and engage people’s mental health all while keeping a plant theme. \n\n\n\n\nFor full information about Native Plant Fest 2025\, please visit https://www.theopac.org/native-plant-fest
URL:https://herbwalks.com/event/lannys-slideshow-talk-at-native-plant-fest/
LOCATION:Oxnard Performing Arts Center\, 800 Hobson Way\, Oxnard\, California\, 93030\, United States
ATTACH;FMTTYPE=image/png:https://herbwalks.com/wp-content/uploads/2025/01/Native-Plant-Fest-1-e1737498798859.png
END:VEVENT
END:VCALENDAR