BEGIN:VCALENDAR
VERSION:2.0
PRODID:-//Ojai &amp; Southern California Herb Walks with Lanny Kaufer - ECPv6.15.20//NONSGML v1.0//EN
CALSCALE:GREGORIAN
METHOD:PUBLISH
X-ORIGINAL-URL:https://herbwalks.com
X-WR-CALDESC:Events for Ojai &amp; Southern California Herb Walks with Lanny Kaufer
REFRESH-INTERVAL;VALUE=DURATION:PT1H
X-Robots-Tag:noindex
X-PUBLISHED-TTL:PT1H
BEGIN:VTIMEZONE
TZID:America/Los_Angeles
BEGIN:DAYLIGHT
TZOFFSETFROM:-0800
TZOFFSETTO:-0700
TZNAME:PDT
DTSTART:20240310T100000
END:DAYLIGHT
BEGIN:STANDARD
TZOFFSETFROM:-0700
TZOFFSETTO:-0800
TZNAME:PST
DTSTART:20241103T090000
END:STANDARD
BEGIN:DAYLIGHT
TZOFFSETFROM:-0800
TZOFFSETTO:-0700
TZNAME:PDT
DTSTART:20250309T100000
END:DAYLIGHT
BEGIN:STANDARD
TZOFFSETFROM:-0700
TZOFFSETTO:-0800
TZNAME:PST
DTSTART:20251102T090000
END:STANDARD
BEGIN:DAYLIGHT
TZOFFSETFROM:-0800
TZOFFSETTO:-0700
TZNAME:PDT
DTSTART:20260308T100000
END:DAYLIGHT
BEGIN:STANDARD
TZOFFSETFROM:-0700
TZOFFSETTO:-0800
TZNAME:PST
DTSTART:20261101T090000
END:STANDARD
END:VTIMEZONE
BEGIN:VEVENT
DTSTART;TZID=America/Los_Angeles:20250612T183000
DTEND;TZID=America/Los_Angeles:20250612T200000
DTSTAMP:20260424T182243
CREATED:20250424T215638Z
LAST-MODIFIED:20250511T174407Z
UID:16686-1749753000-1749758400@herbwalks.com
SUMMARY:Free Author Event at Timbre Books
DESCRIPTION:Free Author Event at Timbre Books\n\n\n\n\n\n\n\n\n\n \n\n\n\nPlease join me and herbalist Jiling Lin at Timbre Books in Ventura for a conversation about my 2021 book from Falcon Guides\, Medicinal Herbs of California: A Field Guide to Common Healing Plants. \n\n\n\n \n\n\n\nTogether\, we’ll explore my process of writing the book and\, among other topics\, the criteria used to decide which of the hundreds of medicinal herbs growing wild in California to include in a one-pound field guide designed for carrying in a backpack. We’ll discuss the whys and hows of sustainable foraging and the ways in which the book promotes environmental awareness. And because the very existence of the book begs the question\, “If medicinal herbs work\, why hasn’t the FDA approved them for physicians to prescribe?\,” I’ll read a short eye-opening chapter on that topic entitled “A Brief History of Medicinal Herbs in America.” \n\n\n\nTo RVSP for this free Timbre Books event\, please visit this page. Bring your questions and curiosity and join the fun! \n\n\n\nABOUT LANNY KAUFER: \n\n\nLanny Kaufer has been leading herb walks\, nature hikes\, and workshops in Ventura and Santa Barbara Counties since 1976\, educating hundreds of residents and visitors on the edible and medicinal flora of the area. He holds a biology degree from UC Santa Cruz and is the author of Medicinal Herbs of California: A Field Guide to Common Healing Plants (Falcon Guides\, 2021). Lanny hosts the Ojai Herbal Symposium\, most recently held in Krotona Hall in November 2023\, and scheduled to return on May 30\, 2026. Lanny is on the faculty of the Osher Lifelong Learning Institute at California State University\, Channel Islands. He serves as chief consultant on medicinal plants for the Swimmer Medicinal Garden in Playa Vista\, CA. \n \n \n \nJILING LIN: \n \nJiling Lin is a Licensed Acupuncturist (L.Ac.)\, herbalist\, writer\, surfer\, and podcast host for Tea Talks with Jiling on Herbal Radio. Her Ventura acupuncture clinic integrates gentle acupuncture and herbs with accessible lifestyle medicine solutions to nourish thriving personal and ecological well-being. She’s writing her first book about Five Elements Lifestyle Medicine! Visit Jiling at JilingLin.com and join her newsletter for seasonal beauty.
URL:https://herbwalks.com/event/free-author-event-at-timbre-books/
ATTACH;FMTTYPE=image/png:https://herbwalks.com/wp-content/uploads/2025/04/Lanny-Jiling-e1746985379918.png
END:VEVENT
END:VCALENDAR