BEGIN:VCALENDAR
VERSION:2.0
PRODID:-//Ojai &amp; Southern California Herb Walks with Lanny Kaufer - ECPv6.15.20//NONSGML v1.0//EN
CALSCALE:GREGORIAN
METHOD:PUBLISH
X-WR-CALNAME:Ojai &amp; Southern California Herb Walks with Lanny Kaufer
X-ORIGINAL-URL:https://herbwalks.com
X-WR-CALDESC:Events for Ojai &amp; Southern California Herb Walks with Lanny Kaufer
REFRESH-INTERVAL;VALUE=DURATION:PT1H
X-Robots-Tag:noindex
X-PUBLISHED-TTL:PT1H
BEGIN:VTIMEZONE
TZID:America/Los_Angeles
BEGIN:DAYLIGHT
TZOFFSETFROM:-0800
TZOFFSETTO:-0700
TZNAME:PDT
DTSTART:20240310T100000
END:DAYLIGHT
BEGIN:STANDARD
TZOFFSETFROM:-0700
TZOFFSETTO:-0800
TZNAME:PST
DTSTART:20241103T090000
END:STANDARD
BEGIN:DAYLIGHT
TZOFFSETFROM:-0800
TZOFFSETTO:-0700
TZNAME:PDT
DTSTART:20250309T100000
END:DAYLIGHT
BEGIN:STANDARD
TZOFFSETFROM:-0700
TZOFFSETTO:-0800
TZNAME:PST
DTSTART:20251102T090000
END:STANDARD
BEGIN:DAYLIGHT
TZOFFSETFROM:-0800
TZOFFSETTO:-0700
TZNAME:PDT
DTSTART:20260308T100000
END:DAYLIGHT
BEGIN:STANDARD
TZOFFSETFROM:-0700
TZOFFSETTO:-0800
TZNAME:PST
DTSTART:20261101T090000
END:STANDARD
END:VTIMEZONE
BEGIN:VEVENT
DTSTART;TZID=America/Los_Angeles:20250622T090000
DTEND;TZID=America/Los_Angeles:20250622T160000
DTSTAMP:20260424T130539
CREATED:20250401T035029Z
LAST-MODIFIED:20250622T145832Z
UID:16515-1750582800-1750608000@herbwalks.com
SUMMARY:Summer Solstice Nature Hike on Pine Mountain
DESCRIPTION:Summer Solstice Nature Hike on Pine Mountain\n\n\n\n\n\n\n\nAbove: The Channel Islands seen from Pine Mountain. Photo: Lanny Kaufer \n\n\n\nRegistration is now closed for this hike. (June 22\, 8:00 a.m.)\n\n\n\nJUMP TO REGISTRATION\n\n\n\nIf you’ve ever walked or hiked with me\, you’ve probably heard me speak of the special beauty of Pine Mountain. Experience it for yourself on our annual Summer Solstice Nature Hike on the Reyes Peak Trail. On Sunday\, June 22\, we’ll visit some of the most spectacular scenery and habitat that Ventura County has to offer just when many late spring wildflowers are blooming up there at an elevation of 7000 feet(!).  According to Craig Carey\, author of Hiking and Backpacking Santa Barbara and Ventura\, the Reyes Peak Trail along the northern slope of the peak is “quite simply one of the most beautiful stretches in the southern Los Padres.” \n\n\n\nThe outing will start at 9:00 a.m. with a car caravan of about 35 miles up Highway 33 from the Maricopa Plaza\, (1207 Maricopa Highway\, Ojai\, CA 93023) to the Reyes Peak trailhead. The final 5.5 miles are on a narrow\, winding paved road and the very last half-mile is dirt. Trucks or SUV’s are preferred for the last stretch but most passenger cars with high clearance can also make the drive. \n\n\n\nWe will start walking into the Sespe Wilderness from the trailhead (where there is a restroom) at about 10:30 a.m.\, stop for lunch (not provided) in the forest\, and return to the trailhead by 3:30 p.m.\, arriving back at the Maricopa Plaza by 4:00 p.m. We will hike on a well-used trail through Mixed Conifer Forest habitat\, stopping often to identify and discuss native plants\, birds and wildlife. \n\n\n\nThis intermediate level hike is suitable for moderately experienced hikers or physically fit beginners. There will be some elevation gain and loss skirting the north side of Reyes Peak\, sometimes traversing steep hillsides on a narrow trail. The total hiking distance will be about 3 miles. \n\n\n\nPLEASE NOTE: Those with respiratory or circulatory issues possibly affected by altitude should consult with a physician before attempting this hike. \n\n\n\nWeather and marine layer permitting\, we will have panoramic views of the Cuyama Valley to the north and the Channel Islands to the south from the “sky island” of Pine Mountain and Reyes Peak.  This hike is another in a series of backcountry walks and hikes under an Operating Permit from the U.S. Forest Service designed for guides who provide recreational and interpretive services to the public. After the hike participants will receive a detailed follow-up email including a list of all plants identified. \n\n\n\nPLEASE NOTE: Light rain will not cancel. Heavy rain or thunderstorms will. Once you register you will receive weather updates\, directions and other info about what to wear\, etc. No dogs or smoking\, please. \n\n\n\nThe cost for the hike is $45/person. Qualifying full-time students (13+) can attend for $35. Children 6-12 (one per adult) can attend for $25. Kids 5 and under are free (one per adult)\, subject to approval. \n\n\n\nMy 2021 book\, Medicinal Herbs of California\, will be available at the meeting place in the morning for sale and signing. \n\n\n\n\n\n\n\n\n\n			\n				\n			\n		Lanny describes the needles of a White Fir sapling on the Reyes Peak Trail.\n\n\n\n\n			\n				\n			\n		Rondia (center) and friends enjoying lunch. Photo: Chris Kudelka\n\n\n\n\n			\n				\n			\n		Pine Mountain. Photo: Enrique Villaseñor\n\n\n\n\n			\n				\n			\n		View north of the Cuyama Valley from Pine Mountain.\n\n\n\n\n\n\n\n\n\n\n\n\nREGISTRATION\n\n\n\nPlease REGISTER HERE FIRST before completing payment below. \n\n\n\n	Notice: JavaScript is required for this content.\n\n\n    \n\n\n        \n        \n        \n\n\n\n\n\n\nTICKETS\n\n\n\nIf you haven’t already up above\, please REGISTER FIRST before completing payment below.\n\n\n\n\n\nNote: Online payment includes a PayPal fee. If you prefer\, when you register you can request instructions for mailing a payment of $45/adult\, $35/student\, or $25/child (one per adult) as long as there is still time for mail delivery.Cancellation policy: I will refund your payment if you notify me up to 72 hours (3 days) before the start of the event. After that I will make every effort to fill your space (and I’m usually successful) but cannot guarantee.
URL:https://herbwalks.com/event/summer-solstice-nature-hike-on-pine-mountain-2025/
ATTACH;FMTTYPE=image/jpeg:https://herbwalks.com/wp-content/uploads/2024/12/IMG_2790-1-e1734452606167.jpeg
ORGANIZER;CN="Lanny Kaufer":MAILTO:register@herbwalks.com
END:VEVENT
END:VCALENDAR