BEGIN:VCALENDAR
VERSION:2.0
PRODID:-//Ojai &amp; Southern California Herb Walks with Lanny Kaufer - ECPv6.15.20//NONSGML v1.0//EN
CALSCALE:GREGORIAN
METHOD:PUBLISH
X-WR-CALNAME:Ojai &amp; Southern California Herb Walks with Lanny Kaufer
X-ORIGINAL-URL:https://herbwalks.com
X-WR-CALDESC:Events for Ojai &amp; Southern California Herb Walks with Lanny Kaufer
REFRESH-INTERVAL;VALUE=DURATION:PT1H
X-Robots-Tag:noindex
X-PUBLISHED-TTL:PT1H
BEGIN:VTIMEZONE
TZID:America/Los_Angeles
BEGIN:DAYLIGHT
TZOFFSETFROM:-0800
TZOFFSETTO:-0700
TZNAME:PDT
DTSTART:20240310T100000
END:DAYLIGHT
BEGIN:STANDARD
TZOFFSETFROM:-0700
TZOFFSETTO:-0800
TZNAME:PST
DTSTART:20241103T090000
END:STANDARD
BEGIN:DAYLIGHT
TZOFFSETFROM:-0800
TZOFFSETTO:-0700
TZNAME:PDT
DTSTART:20250309T100000
END:DAYLIGHT
BEGIN:STANDARD
TZOFFSETFROM:-0700
TZOFFSETTO:-0800
TZNAME:PST
DTSTART:20251102T090000
END:STANDARD
BEGIN:DAYLIGHT
TZOFFSETFROM:-0800
TZOFFSETTO:-0700
TZNAME:PDT
DTSTART:20260308T100000
END:DAYLIGHT
BEGIN:STANDARD
TZOFFSETFROM:-0700
TZOFFSETTO:-0800
TZNAME:PST
DTSTART:20261101T090000
END:STANDARD
END:VTIMEZONE
BEGIN:VEVENT
DTSTART;TZID=America/Los_Angeles:20250727T090000
DTEND;TZID=America/Los_Angeles:20250727T120000
DTSTAMP:20260424T180915
CREATED:20250701T182100Z
LAST-MODIFIED:20250701T182956Z
UID:17208-1753606800-1753617600@herbwalks.com
SUMMARY:Ocean's Edge Trail Herb Walk
DESCRIPTION:Ocean’s Edge Trail Herb Walk\n\n\n\n\n\n\n\nJUMP TO REGISTRATION\n\n\n\nJoin me on Sunday\, July 27\, from 9 a.m. to 12:00 p.m. to discover the variety of useful plants that live in the interface between land and sea on the Ocean’s Edge Trail in the Seaside Wilderness Park. Feel the sea breeze far from the inland heat while you enjoy the views and the plants. \n\n\n\nBeach Sand-Verbena\, Beachbur\, Beach Morning-Glory and Ice Plant in their natural habitat. Photo by Rondia Kaufer\n\n\n\nFrom streetside parking\, we’ll walk into the Emma Wood Group Camp and start the herb walk on the ocean side. We’ll meet a variety of edible and medicinal plants\, both native and non-native\, identifying and learning about them with all of our senses. Then we’ll complete the loop on the Ocean’s Edge Trail in the sand dunes on the beach. All along the way\, we will be discussing and demonstrating uses of the plants of the Riparian Woodland\, Coastal Sage Scrub\, and Coastal Strand plant communities. The total walking distance is 1.3 miles. \n\n\n\n\n\n\n\n \n\n\n\nIn addition to the adult tickets ($35)\, tickets for students 13-17 ($25) and children 6-12 ($15) are also available. See tickets below. One supervising adult must accompany each child 12 years old or younger. \n\n\n\nCopies of my book\, Medicinal Herbs of California\, along with the rest of my mobile bookshop\, will be on hand for sale and signing before and after the walk. \n\n\n\nPARKING: We will park for free on the far end of West Main Street in Ventura\, just before it enters the northbound 101 to Santa Barbara\, outside the entrance to Seaside Wilderness Park. It’s also known as Emma Wood State Beach Group Campground (NOT the Emma Wood Beach RV Camp which is further on under the overpass). You are welcome to drive into the Group Camp to park but it costs $10. \n\n\n\nMY WEATHER POLICY: Walks and hikes will go on RAIN OR SHINE unless there is a steady downpour on the morning of the event\, probability of thunderstorm\, or a solid forecast of either the day before. Light rain or drizzle will not result in cancellation on my part. I will update registrants by email and text\, as needed\, and issue refunds if I need to cancel because of the weather. \n\n\n\nMY CANCELLATION POLICY: I will refund your payment if you notify me up to 72 hours (3 days) before the start of the event. After that I will make every effort to fill your space (and I’m usually successful) but cannot guarantee. \n\n\n\nREGISTRATION\n\n\n\nPlease REGISTER HERE FIRST before completing payment below.\n\n\n\n	Notice: JavaScript is required for this content.\n\n\n    \n\n\n        \n        \n        \n\n\nTICKETS\n\n\n\nIf you haven’t already\, please REGISTER FIRST above before completing payment below.\n\n\n\n				\n					\n					\n					Ocean’s Edge Trail Herb Walk\n				\n				$36.71\n				\n				Add to cart\n			\n				\n					\n					\n					Ocean’s Edge Trail Herb Walk / STUDENT\n				\n				$26.36\n				\n				Add to cart\n			\n				\n					\n					\n					Ocean’s Edge Trail Herb Walk / CHILD\n				\n				$16.00\n				\n				Add to cart\n			\n\n\nNote: Online payment includes a PayPal fee. If you prefer\, when you register you can request instructions for mailing a payment of $35/adult\, $25/student\, or $15/child (one per adult) as long as there is still time for mail delivery.Cancellation policy: I will refund your payment if you notify me up to 72 hours (3 days) before the start of the event. After that I will make every effort to fill your space (and I’m usually successful) but cannot guarantee.
URL:https://herbwalks.com/event/oceans-edge-trail-herb-walk-2/
LOCATION:Emma Wood State Beach Group Campground\, Park Access Rd.\, Ventura\, California\, 93001\, United States
ATTACH;FMTTYPE=image/jpeg:https://herbwalks.com/wp-content/uploads/2024/07/IMG_2380-scaled-e1719870094236.jpeg
END:VEVENT
END:VCALENDAR