BEGIN:VCALENDAR
VERSION:2.0
PRODID:-//Ojai &amp; Southern California Herb Walks with Lanny Kaufer - ECPv6.15.20//NONSGML v1.0//EN
CALSCALE:GREGORIAN
METHOD:PUBLISH
X-WR-CALNAME:Ojai &amp; Southern California Herb Walks with Lanny Kaufer
X-ORIGINAL-URL:https://herbwalks.com
X-WR-CALDESC:Events for Ojai &amp; Southern California Herb Walks with Lanny Kaufer
REFRESH-INTERVAL;VALUE=DURATION:PT1H
X-Robots-Tag:noindex
X-PUBLISHED-TTL:PT1H
BEGIN:VTIMEZONE
TZID:America/Los_Angeles
BEGIN:DAYLIGHT
TZOFFSETFROM:-0800
TZOFFSETTO:-0700
TZNAME:PDT
DTSTART:20240310T100000
END:DAYLIGHT
BEGIN:STANDARD
TZOFFSETFROM:-0700
TZOFFSETTO:-0800
TZNAME:PST
DTSTART:20241103T090000
END:STANDARD
BEGIN:DAYLIGHT
TZOFFSETFROM:-0800
TZOFFSETTO:-0700
TZNAME:PDT
DTSTART:20250309T100000
END:DAYLIGHT
BEGIN:STANDARD
TZOFFSETFROM:-0700
TZOFFSETTO:-0800
TZNAME:PST
DTSTART:20251102T090000
END:STANDARD
BEGIN:DAYLIGHT
TZOFFSETFROM:-0800
TZOFFSETTO:-0700
TZNAME:PDT
DTSTART:20260308T100000
END:DAYLIGHT
BEGIN:STANDARD
TZOFFSETFROM:-0700
TZOFFSETTO:-0800
TZNAME:PST
DTSTART:20261101T090000
END:STANDARD
END:VTIMEZONE
BEGIN:VEVENT
DTSTART;TZID=America/Los_Angeles:20250912T090000
DTEND;TZID=America/Los_Angeles:20250914T170000
DTSTAMP:20260424T164437
CREATED:20250731T020354Z
LAST-MODIFIED:20250901T234813Z
UID:17389-1757667600-1757869200@herbwalks.com
SUMMARY:17th International Herb Symposium in Cincinnati and Online
DESCRIPTION:17th International Herb Symposium in Cincinnati and Online\n\n\n\n\n\n\n\n \n\n\n\nI am honored to be presenting two classes – one in-person and live-streamed and one online – at this year’s 17th International Herb Symposium in Cincinnati. Recordings of those classes and all the rest of the presentations will be available online for one year.\n\n\n\nThe IHS is the premier herbal conference of 2025\, featuring renowned presenters like Rosemary Gladstar\, Christopher Hobbs\, David Winston\, Matthew Wood\, Emily Watson of Artemisia Academy\, and many other noted herbalists and authors. Founded by Rosemary Gladstar in 1991\, the IHS brings together plant lovers and herbalists from around the world\, representing many traditions and aspects of herbalism: folkloric\, scientific\, community outreach and therapeutic applications\, farming and gardening\, ceremonial and plant spirit teachings\, and many others. Hosted biennially\, the Symposium also places a special emphasis on medicinal plant conservation and is held as a benefit conference for United Plant Savers\, a non-profit organization dedicated to the conservation of medicinal plants. \n\n\n\nOn Saturday\, September 13\, at 2:00 p.m. EDT in Cincinnati on the Main Stage in the historic Memorial Hall I will present a slideshow talk on “The Twisted History of Herbal Medicine in America.” Follow this link\, scroll down to my Saturday class\, and click to learn more about it. That presentation will also be live-streamed.  \n\n\n\nI will present a second slideshow talk\, online-only\, about the making of my book\, Medicinal Herbs of California\, entitled “More Than a Field Guide: Writing with Ecological and Cultural Respect.” That one is not posted yet. I will update this page when it is. \n\n\n\nI’m happy to be able to offer you $50 off the in-person or online price of the Symposium. To redeem\, you just need to: \n\n\n\n\nVisit the International Herb Symposium website (https://www.internationalherbsymposium.com/)\n\n\n\nFind the “Register” button or get there with this link: https://internationalherbsymposium.regfox.com/17th-ihs\n\n\n\nThen enter the code SAVE50LANNY at checkout\, and the $50 off will be automatically applied.\n\n\n\n\nI hope to see some of you in Cincinnati or in the live-stream audience on September 13. For more information\, please visit the IHS website at https://www.internationalherbsymposium.com.
URL:https://herbwalks.com/event/17th-international-herb-symposium-in-cincinnati-and-online/
ATTACH;FMTTYPE=image/png:https://herbwalks.com/wp-content/uploads/2025/07/Save-50-e1753914718596.avif
END:VEVENT
END:VCALENDAR