BEGIN:VCALENDAR
VERSION:2.0
PRODID:-//Ojai &amp; Southern California Herb Walks with Lanny Kaufer - ECPv6.15.20//NONSGML v1.0//EN
CALSCALE:GREGORIAN
METHOD:PUBLISH
X-WR-CALNAME:Ojai &amp; Southern California Herb Walks with Lanny Kaufer
X-ORIGINAL-URL:https://herbwalks.com
X-WR-CALDESC:Events for Ojai &amp; Southern California Herb Walks with Lanny Kaufer
REFRESH-INTERVAL;VALUE=DURATION:PT1H
X-Robots-Tag:noindex
X-PUBLISHED-TTL:PT1H
BEGIN:VTIMEZONE
TZID:America/Los_Angeles
BEGIN:DAYLIGHT
TZOFFSETFROM:-0800
TZOFFSETTO:-0700
TZNAME:PDT
DTSTART:20240310T100000
END:DAYLIGHT
BEGIN:STANDARD
TZOFFSETFROM:-0700
TZOFFSETTO:-0800
TZNAME:PST
DTSTART:20241103T090000
END:STANDARD
BEGIN:DAYLIGHT
TZOFFSETFROM:-0800
TZOFFSETTO:-0700
TZNAME:PDT
DTSTART:20250309T100000
END:DAYLIGHT
BEGIN:STANDARD
TZOFFSETFROM:-0700
TZOFFSETTO:-0800
TZNAME:PST
DTSTART:20251102T090000
END:STANDARD
BEGIN:DAYLIGHT
TZOFFSETFROM:-0800
TZOFFSETTO:-0700
TZNAME:PDT
DTSTART:20260308T100000
END:DAYLIGHT
BEGIN:STANDARD
TZOFFSETFROM:-0700
TZOFFSETTO:-0800
TZNAME:PST
DTSTART:20261101T090000
END:STANDARD
END:VTIMEZONE
BEGIN:VEVENT
DTSTART;TZID=America/Los_Angeles:20251105T153000
DTEND;TZID=America/Los_Angeles:20251105T180000
DTSTAMP:20260424T140017
CREATED:20251001T142302Z
LAST-MODIFIED:20251029T191642Z
UID:18821-1762356600-1762365600@herbwalks.com
SUMMARY:November Supermoon Sunset Nature Hike
DESCRIPTION:November Supermoon Sunset Nature Hike\n\n\n\n\n\n\n\nFull moon over Topa Topa Bluffs. Oil on linen painting\, “Sunswept” by Jennifer Moses (jennifermoses.com) \n\n\n\nJUMP TO REGISTRATION\n\n\n\nSometimes\, we’ll see a supermoon two\, or even three\, months in a row. That will be the case on Wednesday evening\, November 5\, when Rondia and I lead a second back-to-back Supermoon Sunset Nature Hike from 3:30 to 6:00 p.m. (The third consecutive supermoon will be in December. See that event listing for details.) From the trailhead we’ll gradually walk about 1.5 miles on a well used dirt road with gradual elevation gain to a vista point above the Ojai Valley where we can watch the rising of the moon over the iconic Topa Topa Bluffs to the east amidst Ojai’s famed “pink moment.” At the same time\, as happens during a full moon\, the sun will be setting over the mountains to the west. \n\n\n\nThese synchronistic phenomena are beautifully captured in Ojai artist Jennifer Moses‘ oil on linen painting\, “Sunswept.” \n\n\n\n\n\n\n\nSunset over Ojai Valley in late October\, 2020\, during full moon nature hike. Photo: Robin Kent \n\n\n\n On the way up in the daylight\, we’ll stop along the way to meet some valuable edible and medicinal plants including\, among others: \n\n\n\nCalifornia BuckwheatPurple SageCoastal SagebrushPassion FruitYucca andBrickellbush \n\n\n\nAfter witnessing the sunset and moonrise\, we’ll walk back to the trailhead by remaining daylight\, moonlight\, and flashlight\, returning to the trailhead at about 6:00. Registrants will receive instructions on where to park\, what to bring\, etc. Afterwards\, they’ll get an email with a plant list and other notes. \n\n\n\nMy 2021 book\, Medicinal Herbs of California\, will be available at the trailhead for sale and signing. \n\n\n\nIf enough people are interested\, we can go to Ojai Valley Brewery after the hike for a potluck on the patio where we can continue to watch the supermoon. Their local herb-infused beers are the perfect complement to our hike among the very plants they use. \n\n\n\nIn addition to the adult tickets ($35)\, tickets for students 13-17 ($25) and children 6-12 ($15) are also available. Children 5 and younger can attend free\, one per adult. One supervising adult must accompany each child 12 years old or younger. \n\n\n\nMY WEATHER POLICY: Walks and hikes will go on RAIN OR SHINE unless there is a steady downpour on the morning of the event\, probability of thunderstorm\, or a solid forecast of either the day before. Light rain or drizzle will not result in cancellation on my part. I will update registrants by email and text\, as needed\, and issue refunds if I need to cancel because of the weather. \n\n\n\nMY CANCELLATION POLICY: I will refund your payment if you notify me up to 72 hours (3 days) before the start of the event. After that I will make every effort to fill your space (and I’m usually successful) but cannot guarantee. \n\n\n\nREGISTRATION\n\n\n\nPlease REGISTER HERE FIRST before completing payment below. \n\n\n\n	Notice: JavaScript is required for this content.\n\n\n    \n\n\n        \n        \n        \n\n\n\n\n\n\nTICKETS\n\n\n\nIf you haven’t already done so up above\, please REGISTER FIRST before completing payment below. \n\n\n\n				\n					\n					\n					November Supermoon Sunset Nature Hike: Wednesday\, November 5\n				\n				$36.71\n				\n				Add to cart\n			\n				\n					\n					\n					November Supermoon Sunset Nature Hike: Wednesday\, November 5 (STUDENT)\n				\n				$26.36\n				\n				Add to cart\n			\n				\n					\n					\n					November Supermoon Sunset Nature Hike: Wednesday\,November 5 (CHILD)\n				\n				$16.00\n				\n				Add to cart
URL:https://herbwalks.com/event/november-supermoon-sunset-nature-hike/
ATTACH;FMTTYPE=image/jpeg:https://herbwalks.com/wp-content/uploads/2025/10/Jennifer-Moses-Sunswept-36x44-Oil-e1759326863584.avif
ORGANIZER;CN="Lanny Kaufer":MAILTO:register@herbwalks.com
END:VEVENT
END:VCALENDAR