BEGIN:VCALENDAR
VERSION:2.0
PRODID:-//Ojai &amp; Southern California Herb Walks with Lanny Kaufer - ECPv6.15.20//NONSGML v1.0//EN
CALSCALE:GREGORIAN
METHOD:PUBLISH
X-WR-CALNAME:Ojai &amp; Southern California Herb Walks with Lanny Kaufer
X-ORIGINAL-URL:https://herbwalks.com
X-WR-CALDESC:Events for Ojai &amp; Southern California Herb Walks with Lanny Kaufer
REFRESH-INTERVAL;VALUE=DURATION:PT1H
X-Robots-Tag:noindex
X-PUBLISHED-TTL:PT1H
BEGIN:VTIMEZONE
TZID:America/Los_Angeles
BEGIN:DAYLIGHT
TZOFFSETFROM:-0800
TZOFFSETTO:-0700
TZNAME:PDT
DTSTART:20240310T100000
END:DAYLIGHT
BEGIN:STANDARD
TZOFFSETFROM:-0700
TZOFFSETTO:-0800
TZNAME:PST
DTSTART:20241103T090000
END:STANDARD
BEGIN:DAYLIGHT
TZOFFSETFROM:-0800
TZOFFSETTO:-0700
TZNAME:PDT
DTSTART:20250309T100000
END:DAYLIGHT
BEGIN:STANDARD
TZOFFSETFROM:-0700
TZOFFSETTO:-0800
TZNAME:PST
DTSTART:20251102T090000
END:STANDARD
BEGIN:DAYLIGHT
TZOFFSETFROM:-0800
TZOFFSETTO:-0700
TZNAME:PDT
DTSTART:20260308T100000
END:DAYLIGHT
BEGIN:STANDARD
TZOFFSETFROM:-0700
TZOFFSETTO:-0800
TZNAME:PST
DTSTART:20261101T090000
END:STANDARD
END:VTIMEZONE
BEGIN:VEVENT
DTSTART;TZID=America/Los_Angeles:20251108T090000
DTEND;TZID=America/Los_Angeles:20251108T130000
DTSTAMP:20260424T140005
CREATED:20250903T042154Z
LAST-MODIFIED:20251103T151454Z
UID:18250-1762592400-1762606800@herbwalks.com
SUMMARY:Cold Care Herb Walk + Workshop with Emily Watson and Lanny Kaufer
DESCRIPTION:Cold Care Herb Walk + Workshop with Emily Watson & Lanny Kaufer\n\n\n\n\n\n\n\n \n\n\n\nJoin Emily Watson of Artemisia Academy and Lanny Kaufer of Ojai Herb Walks for an outdoor\, seasonal workshop on herbal remedies for supporting the immune system and easing coughs and colds. We’ll begin with a 2-hour herb walk to discover native and local plants traditionally used for respiratory health\, immunity\, and cold-season care. Then\, in the hands-on portion\, Emily will guide you through making a potent sinus steam and a delicious elderberry syrup. At the end of class\, you’ll take home your remedies and the knowledge to make them again. \n\n\n\n \n\n\n\nWhat You’ll Learn/Get:\n\n\n\n\nGuided 2-hour herb walk to identify native and local plants for immune and respiratory health\n\n\n\nLearn about herbal allies for colds\, flu\, and coughs — including elderberry\, mullein\, yerba santa\, California everlasting flowers\, and more\n\n\n\nHands-on instruction to make your own syrups & sinus steams\n\n\n\nTips on safe herbal preparation\, storage\, and dosage for adults and children\n\n\n\n\n\n\n\n\n \n\n\n\nREGISTRATION:\n\n\n\n \n\n\n\nFor registration and tickets\, please visit ArtemisiaAcademy.com. \n\n\n\n\n\n\n\nABOUT EMILY WATSON: \n\n\n\n\n\n\n\nDirector & Founder of the Artemisia AcademyCertified Clinical HerbalistCertified Clinical Nutritionist \n\n\n\nEmily Watson is a certified “herb nerd” who loves connecting people with their own personalplant allies and their healer within. Born and raised in Santa Barbara\, California. Emily has apassion for the California mountains and the stories of the plants and people that camebefore us. Her hope is to pass on the knowledge of sustainable living with practicalentrepreneurial skills\, so that herbalists can create thriving practices that fully supportthemselves\, their land\, and their community. \n\n\n\nYou can find Emily online at: \n\n\n\n\nWebsite: www.ArtemisiaAcademy.com\n\n\n\nInstagram: @ArtemisiaAcademy\n\n\n\nFacebook: https://www.facebook.com/artemisiaacademy/\n\n\n\nLinked In: https://www.linkedin.com/in/emily-watson-herbalist/\n\n\n\n\n\n\n\n\nABOUT LANNY KAUFER: \n\n\n\n\n\n\n\nLanny Kaufer has been leading Herb Walks and Nature Hikes in Ventura and Santa Barbara counties since 1976\, educating hundreds of locals and visitors on the flora of the area with a focus on herbs that can be used for food and medicine. As an herbal educator\, Lanny also leads workshops and presentations throughout the Ojai-Ventura-Santa Barbara area on the edible and medicinal uses of California plants. He holds a degree in Biology from UC Santa Cruz\, serves on the faculty of the Osher Lifelong Learning Institute at California State University\, Channel Islands. \n\n\n\nLanny is the author of Medicinal Herbs of California: A Field Guide to Common Healing Plants (Falcon Guides\, 2021). Lanny hosts the Ojai Herbal Symposium and serves as chief consultant on medicinal plants for the Swimmer Medicinal Garden in Playa Vista. \n\n\n\nYou can find Lanny online at: \n\n\n\n\nWebsite: HerbWalks.com\n\n\n\nInstagram: @OjaiHerbal\n\n\n\nFacebook: https://facebook.com/HerbWalks\n\n\n\nLinked In: www.linkedin.com/in/lanny-kaufer-8019b4a9\n\n\n\n\nPlease note: This workshop will go on RAIN OR SHINE with the exception of a heavy downpour in the morning and/or a 100% chance of heavy rain that day. No dogs or smoking\, please. Paid registrants will receive a confirmation email about a week prior to the workshop with all necessary info\, including weather forecast and parking directions\,  They also will receive a follow-up email afterwards with a list of all plants identified and used\, recipes\, and more. \n\n\n\nThe cost for the workshop is $60. There is a $10 cash Materials fee paid directly to the instructors at the beginning of the workshop. \n\n\n\nCancellation policy: We will refund your payment if you notify us up to 72 hours (3 days) before the start of the event. After that we will make every effort to fill your space but cannot guarantee it. \n\n\n\n\n\n\n\n\n\n\nHerbal Skin Care with Emily Watson: Saturday\, July 12\, 2025\n\n\n\n\n					$62.58\n				\n\n\n\n\n	\n	\n		\n		\n		Herbal Skin Care with Emily Watson: Saturday\, July 12\, 2025 quantity\n	\n	\n\n		Add to cart\n\n			\n\n	\n\n\n\n\n\n\nCategory: Event Tickets\, past
URL:https://herbwalks.com/event/cold-care-herb-walk-workshop/
ATTACH;FMTTYPE=image/jpeg:https://herbwalks.com/wp-content/uploads/2025/09/Cold-Care-graphic.avif
ORGANIZER;CN="Emily Watson":MAILTO:info@artemisiaacademy.com
END:VEVENT
END:VCALENDAR