BEGIN:VCALENDAR
VERSION:2.0
PRODID:-//Ojai &amp; Southern California Herb Walks with Lanny Kaufer - ECPv6.15.20//NONSGML v1.0//EN
CALSCALE:GREGORIAN
METHOD:PUBLISH
X-WR-CALNAME:Ojai &amp; Southern California Herb Walks with Lanny Kaufer
X-ORIGINAL-URL:https://herbwalks.com
X-WR-CALDESC:Events for Ojai &amp; Southern California Herb Walks with Lanny Kaufer
REFRESH-INTERVAL;VALUE=DURATION:PT1H
X-Robots-Tag:noindex
X-PUBLISHED-TTL:PT1H
BEGIN:VTIMEZONE
TZID:America/Los_Angeles
BEGIN:DAYLIGHT
TZOFFSETFROM:-0800
TZOFFSETTO:-0700
TZNAME:PDT
DTSTART:20250309T100000
END:DAYLIGHT
BEGIN:STANDARD
TZOFFSETFROM:-0700
TZOFFSETTO:-0800
TZNAME:PST
DTSTART:20251102T090000
END:STANDARD
BEGIN:DAYLIGHT
TZOFFSETFROM:-0800
TZOFFSETTO:-0700
TZNAME:PDT
DTSTART:20260308T100000
END:DAYLIGHT
BEGIN:STANDARD
TZOFFSETFROM:-0700
TZOFFSETTO:-0800
TZNAME:PST
DTSTART:20261101T090000
END:STANDARD
BEGIN:DAYLIGHT
TZOFFSETFROM:-0800
TZOFFSETTO:-0700
TZNAME:PDT
DTSTART:20270314T100000
END:DAYLIGHT
BEGIN:STANDARD
TZOFFSETFROM:-0700
TZOFFSETTO:-0800
TZNAME:PST
DTSTART:20271107T090000
END:STANDARD
END:VTIMEZONE
BEGIN:VEVENT
DTSTART;TZID=America/Los_Angeles:20260124T120000
DTEND;TZID=America/Los_Angeles:20260124T130000
DTSTAMP:20260424T112901
CREATED:20260103T192238Z
LAST-MODIFIED:20260120T200050Z
UID:20719-1769256000-1769259600@herbwalks.com
SUMMARY:Slideshow Herbal Course at Native Plant Fest
DESCRIPTION:Slideshow Herbal Course at Native Plant Fest\n\n\n\n\n\n\n\n \n\n\n\nI’ll be giving a slideshow Herbal Course on edible and medicinal native plants of Ventura County at 12 noon at the 5th Annual Native Plant Fest on the grounds of the Oxnard Performing Arts Center (OPAC).  \n\n\n\nThe Native Plant Fest is a FREE event that runs from 11 a.m to 4 p.m. and brings together our community to celebrate and showcase local plant-inspired culture\, food\, traditions\, and creativity! This festival is community-led by plant enthusiasts of diverse backgrounds who will share their plants\, services\, artwork\, culinary creations\, products\, educational resources\, and much more! \n\n\n\nLocal native plant growers will have a variety of plants for sale and will provide the info needed for growing them successfully. November through the Spring is prime native planting season in California and OPAC wants to bring together seasoned and newbie plant aficionados for this special event.Guests will enjoy: \n\n\n\n\n\nAn Opening Blessing and Land Acknowledgment\n\n\n\nVendors selling art\, crafts\, plants\, garden accessories\, food\, and more!\n\n\n\nInteractive activities and art-making\n\n\n\nFood Trucks\n\n\n\nEducational speakers and workshops (including my talk)\n\n\n\nNonprofit exhibitors offering free plants\, information and resources\n\n\n\nSpecial musical performances\n\n\n\n\nThere’s plenty for kids to do too\, such as making seed bombs\, flower crowns and much\, much more. \n\n\n\n\nFor full information about Native Plant Fest 2026\, please visit https://www.theopac.org/native-plant-fest
URL:https://herbwalks.com/event/lannys-slideshow-talk-at-native-plant-fest-2/
LOCATION:Oxnard Performing Arts Center\, 800 Hobson Way\, Oxnard\, California\, 93030\, United States
ATTACH;FMTTYPE=image/png:https://herbwalks.com/wp-content/uploads/2026/01/LK-@-Native-Plant-Fest-20-26-e1768939200141.avif
END:VEVENT
END:VCALENDAR