BEGIN:VCALENDAR
VERSION:2.0
PRODID:-//Ojai &amp; Southern California Herb Walks with Lanny Kaufer - ECPv6.15.20//NONSGML v1.0//EN
CALSCALE:GREGORIAN
METHOD:PUBLISH
X-ORIGINAL-URL:https://herbwalks.com
X-WR-CALDESC:Events for Ojai &amp; Southern California Herb Walks with Lanny Kaufer
REFRESH-INTERVAL;VALUE=DURATION:PT1H
X-Robots-Tag:noindex
X-PUBLISHED-TTL:PT1H
BEGIN:VTIMEZONE
TZID:America/Los_Angeles
BEGIN:DAYLIGHT
TZOFFSETFROM:-0800
TZOFFSETTO:-0700
TZNAME:PDT
DTSTART:20250309T100000
END:DAYLIGHT
BEGIN:STANDARD
TZOFFSETFROM:-0700
TZOFFSETTO:-0800
TZNAME:PST
DTSTART:20251102T090000
END:STANDARD
BEGIN:DAYLIGHT
TZOFFSETFROM:-0800
TZOFFSETTO:-0700
TZNAME:PDT
DTSTART:20260308T100000
END:DAYLIGHT
BEGIN:STANDARD
TZOFFSETFROM:-0700
TZOFFSETTO:-0800
TZNAME:PST
DTSTART:20261101T090000
END:STANDARD
BEGIN:DAYLIGHT
TZOFFSETFROM:-0800
TZOFFSETTO:-0700
TZNAME:PDT
DTSTART:20270314T100000
END:DAYLIGHT
BEGIN:STANDARD
TZOFFSETFROM:-0700
TZOFFSETTO:-0800
TZNAME:PST
DTSTART:20271107T090000
END:STANDARD
END:VTIMEZONE
BEGIN:VEVENT
DTSTART;TZID=America/Los_Angeles:20260201T160000
DTEND;TZID=America/Los_Angeles:20260201T183000
DTSTAMP:20260424T095953
CREATED:20260103T235309Z
LAST-MODIFIED:20260130T041255Z
UID:20753-1769961600-1769970600@herbwalks.com
SUMMARY:February Full Moon Sunset Nature Hike
DESCRIPTION:February Full Moon Sunset Nature Hike\n\n\n\n\n\n\n\nFull moon over Topa Topa Bluffs. Photo by Joe P. Powers \n\n\n\nJUMP TO REGISTRATION\n\n\n\nOn Sunday evening\, February 1\, from 4:00 to 6:30 p.m.\, my wife Rondia and I will lead the first Full Moon Sunset Nature Hike of 2026\, my 50th year of leading Herb Walks! We’ll hike to a vista point above the Ojai Valley where we can watch the sunset afterglow and the full moon rise over the Topa Topa Bluffs.  \n\n\n\nRegistrants will receive instructions by email on where to park\, what to bring\, etc. From the trailhead we’ll gradually walk about 1.5 miles on a well used dirt road with gradual elevation gain to the vista point\, stopping along the way to meet some valuable edible and medicinal plants including\, among others: \n\n\n\nBlue ElderberryBlack and Purple SageHorehoundCoastal SagebrushPassion FruitYucca andPrickly-Pear \n\n\n\nAfter witnessing the sunset and moonrise\, we’ll walk back to the trailhead by remaining daylight\, moonlight\, and flashlight\, returning to the trailhead at about 6:30. \n\n\n\n\n\n\n\nSunset over Ojai Valley in late October\, 2020\, during full moon nature hike. Photo: Robin Kent \n\n\n\nMy 2021 book\, Medicinal Herbs of California\, will be available at the trailhead for sale and signing. \n\n\n\nIn addition to the adult tickets ($35)\, tickets for students 13-17 ($25) and children 6-12 ($15) are also available. Children 5 and younger can attend free\, one per adult. One supervising adult must accompany each child 12 years old or younger. \n\n\n\nMY WEATHER POLICY: Walks and hikes will go on RAIN OR SHINE unless there is a steady downpour on the morning of the event\, probability of thunderstorm\, or a solid forecast of either the day before. Light rain or drizzle will not result in cancellation on my part. I will update registrants by email and text\, as needed\, and issue refunds if I need to cancel because of the weather. \n\n\n\nMY CANCELLATION POLICY: I will refund your payment if you notify me up to 72 hours (3 days) before the start of the event. After that I will make every effort to fill your space (and I’m usually successful) but cannot guarantee. \n\n\n\nREGISTRATION\n\n\n\nPlease REGISTER HERE FIRST before completing payment below. \n\n\n\n	Notice: JavaScript is required for this content.\n\n\n    \n\n\n        \n        \n        \n\n\n\n\n\n\nTICKETS\n\n\n\nIf you haven’t already done so up above\, please REGISTER FIRST before completing payment below.
URL:https://herbwalks.com/event/february-2026-full-moon-sunset-nature-hike/
ATTACH;FMTTYPE=image/jpeg:https://herbwalks.com/wp-content/uploads/2022/01/Almost-full-cold-moon-over-snowy-Topa-Topa-Bluffs-Powers-e1643324321779.jpg
ORGANIZER;CN="Lanny Kaufer":MAILTO:register@herbwalks.com
END:VEVENT
END:VCALENDAR