BEGIN:VCALENDAR
VERSION:2.0
PRODID:-//Ojai &amp; Southern California Herb Walks with Lanny Kaufer - ECPv6.15.20//NONSGML v1.0//EN
CALSCALE:GREGORIAN
METHOD:PUBLISH
X-WR-CALNAME:Ojai &amp; Southern California Herb Walks with Lanny Kaufer
X-ORIGINAL-URL:https://herbwalks.com
X-WR-CALDESC:Events for Ojai &amp; Southern California Herb Walks with Lanny Kaufer
REFRESH-INTERVAL;VALUE=DURATION:PT1H
X-Robots-Tag:noindex
X-PUBLISHED-TTL:PT1H
BEGIN:VTIMEZONE
TZID:America/Los_Angeles
BEGIN:DAYLIGHT
TZOFFSETFROM:-0800
TZOFFSETTO:-0700
TZNAME:PDT
DTSTART:20250309T100000
END:DAYLIGHT
BEGIN:STANDARD
TZOFFSETFROM:-0700
TZOFFSETTO:-0800
TZNAME:PST
DTSTART:20251102T090000
END:STANDARD
BEGIN:DAYLIGHT
TZOFFSETFROM:-0800
TZOFFSETTO:-0700
TZNAME:PDT
DTSTART:20260308T100000
END:DAYLIGHT
BEGIN:STANDARD
TZOFFSETFROM:-0700
TZOFFSETTO:-0800
TZNAME:PST
DTSTART:20261101T090000
END:STANDARD
BEGIN:DAYLIGHT
TZOFFSETFROM:-0800
TZOFFSETTO:-0700
TZNAME:PDT
DTSTART:20270314T100000
END:DAYLIGHT
BEGIN:STANDARD
TZOFFSETFROM:-0700
TZOFFSETTO:-0800
TZNAME:PST
DTSTART:20271107T090000
END:STANDARD
END:VTIMEZONE
BEGIN:VEVENT
DTSTART;TZID=America/Los_Angeles:20260303T170000
DTEND;TZID=America/Los_Angeles:20260303T193000
DTSTAMP:20260424T083155
CREATED:20260202T235320Z
LAST-MODIFIED:20260202T235747Z
UID:20987-1772557200-1772566200@herbwalks.com
SUMMARY:March Full Moon Sunset Nature Hike
DESCRIPTION:March Full Moon Sunset Nature Hike\n\n\n\n\n\n\n\nPhoto of full moon over Ojai\, March\, 2022 by Judy Cheske \n\n\nJUMP TO REGISTRATION\nPlease join me and Rondia on Tuesday evening\, March 3\, from 5:00 to 7:30 p.m. for a Full Moon Sunset Nature Hike. The March full moon will rise at approximately 90º due east as the sun sets approximately due west. This phenomenon of opposing moonrise and sunset occurs only near the spring and fall equinoxes. \nWe’ll gradually walk about 1.5 miles on a well-used dirt road with gradual elevation gain to a vista point above the Ojai Valley where we can watch the sunset and moonrise. \nThen we’ll walk back by flashlight and partial moonlight\, returning to the trailhead around 7:30 p.m. \nOn the way up in remaining daylight\, we’ll stop along the trail to meet some valuable edible and medicinal plants\, including: \nBlue ElderberryCoastal SagebrushPrickly-Pear CactusHorehoundBlack Sage andPurple Sage  \nMy 2021 book\, Medicinal Herbs of California\, will be available at the trailhead for sale and signing. \nPaid registrants will receive a confirmation email a few days prior to the event with all necessary info\, including what to bring\, weather forecast\, and directions to the trailhead. Afterwards\, they also will receive a follow-up email with a list of all plants and wildlife seen. \nIn addition to the adult tickets ($35)\, tickets for students 13-17 ($25) and children 6-12 ($15) are offered below. One supervising adult must accompany each child 12 years old or younger. Senior discount is available by request. \nNo dogs or smoking\, please.  \nMY WEATHER POLICY: Walks and hikes will go on RAIN OR SHINE unless there is a steady downpour on the morning of the event\, probability of thunderstorm\, or a solid forecast of either the day before. Light rain or drizzle will not result in cancellation on my part. I will update registrants by email and text\, as needed\, and issue refunds if I need to cancel because of the weather. \nMY CANCELLATION POLICY: I will refund your payment if you notify me up to 72 hours (3 days) before the start of the event. After that I will make every effort to fill your space (and I’m usually successful) but cannot guarantee. \n \n\n\nREGISTRATION\n\n\n\nPlease REGISTER HERE FIRST before completing payment below.\n\n\n\n	Notice: JavaScript is required for this content.\n\n\n    \n\n\n        \n        \n        \n\n\nTICKETS\n\n\n\nIf you haven’t already up above\, please REGISTER FIRST before completing payment below.\n\n\n\nThere are several ticket options. Please choose the one you qualify for. \n\n\n\n		\n			\n				\n					\n						\n					\n					\n						\n							\n						\n					\n				\n			\n		\n		\n					\n\n\n\n\nFull Moon Sunset Nature Hike: Tuesday\, March 3\, 2026\n\n\n					$36.71\n				\n\n\n					\n					Add to cart\n					\n					\n				\n\n				\n					\n\n\n\n\nFull Moon Sunset Nature Hike: Tuesday\, March 3\, 2026 (STUDENT)\n\n\n					$26.36\n				\n\n\n					\n					Add to cart\n					\n					\n				\n\n				\n					\n\n\n\n\nFull Moon Sunset Nature Hike: Tuesday\, March 3\, 2026 (CHILD)\n\n\n					$16.00\n				\n\n\n					\n					Add to cart\n					\n					\n				\n\n				\n\n\n\n\n\nNote: Online payment includes a PayPal fee. If you prefer\, when you register you can request instructions for mailing a payment of $35/adult\, $25/student\, or $15/child (one per adult) as long as there is still time for mail delivery.Cancellation policy: I will refund your payment if you notify me up to 72 hours (3 days) before the start of the event. After that I will make every effort to fill your space (and I’m usually successful) but cannot guarantee.
URL:https://herbwalks.com/event/march-full-moon-sunset-nature-hike/
ATTACH;FMTTYPE=image/jpeg:https://herbwalks.com/wp-content/uploads/2026/02/ShelfTrail_FullMoon3_HR_Cheske-2-scaled-e1770011356337.avif
ORGANIZER;CN="Lanny Kaufer":MAILTO:register@herbwalks.com
END:VEVENT
END:VCALENDAR