BEGIN:VCALENDAR
VERSION:2.0
PRODID:-//Ojai &amp; Southern California Herb Walks with Lanny Kaufer - ECPv6.15.20//NONSGML v1.0//EN
CALSCALE:GREGORIAN
METHOD:PUBLISH
X-ORIGINAL-URL:https://herbwalks.com
X-WR-CALDESC:Events for Ojai &amp; Southern California Herb Walks with Lanny Kaufer
REFRESH-INTERVAL;VALUE=DURATION:PT1H
X-Robots-Tag:noindex
X-PUBLISHED-TTL:PT1H
BEGIN:VTIMEZONE
TZID:America/Los_Angeles
BEGIN:DAYLIGHT
TZOFFSETFROM:-0800
TZOFFSETTO:-0700
TZNAME:PDT
DTSTART:20250309T100000
END:DAYLIGHT
BEGIN:STANDARD
TZOFFSETFROM:-0700
TZOFFSETTO:-0800
TZNAME:PST
DTSTART:20251102T090000
END:STANDARD
BEGIN:DAYLIGHT
TZOFFSETFROM:-0800
TZOFFSETTO:-0700
TZNAME:PDT
DTSTART:20260308T100000
END:DAYLIGHT
BEGIN:STANDARD
TZOFFSETFROM:-0700
TZOFFSETTO:-0800
TZNAME:PST
DTSTART:20261101T090000
END:STANDARD
BEGIN:DAYLIGHT
TZOFFSETFROM:-0800
TZOFFSETTO:-0700
TZNAME:PDT
DTSTART:20270314T100000
END:DAYLIGHT
BEGIN:STANDARD
TZOFFSETFROM:-0700
TZOFFSETTO:-0800
TZNAME:PST
DTSTART:20271107T090000
END:STANDARD
END:VTIMEZONE
BEGIN:VEVENT
DTSTART;TZID=America/Los_Angeles:20260321T090000
DTEND;TZID=America/Los_Angeles:20260321T120000
DTSTAMP:20260424T084535
CREATED:20260225T032206Z
LAST-MODIFIED:20260305T045651Z
UID:21137-1774083600-1774094400@herbwalks.com
SUMMARY:Spring Equinox Walkabout at Taft Gardens & Nature Preserve
DESCRIPTION:Spring Equinox Walkabout at Taft Gardens & Nature Preserve\n\n\n\n\n\n\nFour Directions Circle on Taft Nature Preserve. Photo by Alexandra Nicklin: \nPlease note: This event is presented by the Conservation Endowment Fund (CEF)\, stewards of Taft Gardens & Nature Preserve. They are handling all registrations. Please visit this page to register. You can email taftgardensvisitors@gmail.com with any questions. Admission to the walkabout is $45/person which includes a $10 donation to CEF. \nRegistrants will receive an email from CEF with detailed directions. Please do not try to find the venue by using other maps or GPS. Allow plenty of time to find the venue and to make your way up the miles-long driveway. \nPlease join me for a Spring Equinox Walkabout at Taft Gardens & Nature Preserve on Saturday\, March 21\, from 9 a.m. to 12 p.m. “Walkabout” is an Australian term for a temporary return to traditional Aboriginal life\, taken especially between periods of work or residence in modern society and usually involving a period of travel through the bush. That is what I have planned for us in observance of the Spring Equinox\, although for a much shorter time than the traditional Australian journey and as a group instead of solo. \nLong before St. Patrick and Christianity arrived in Ireland\, the ancient Celts celebrated the Spring Equinox with a festival known as Ostara. This festival was a celebration of the end of winter and the start of the spring season. We will honor that “pagan” tradition as well.  \nOur walkabout will begin in the Australian section of the Gardens and make its way through the wild plant communities in the Nature Preserve to the Four Directions Circle\, a replica of a Native American medicine wheel on a mesa with a 360 degree view. There we will interact with the stone compass as we connect with the annual solar cycle and our own ancestral origins somewhere on Planet Earth. \nAs we do on all my monthly Natural History walks at the Taft Ranch\, we will identify and discuss useful plants and observe birds and animal signs in the context of the local ecology. My intention is to create a space for people to connect and interact with the natural world by learning the language of nature. \nNo dogs or smoking\, please. \nMY WEATHER POLICY: Walks and hikes will go on RAIN OR SHINE unless there is a steady downpour on the morning of the event\, probability of thunderstorm\, or a solid forecast of either the day before. Light rain or drizzle will not result in cancellation on my part. I will update registrants by email and text\, as needed\, and issue refunds if I need to cancel because of the weather. \nABOUT TAFT GARDENS & NATURE PRESERVE:A project of the nonprofit Conservation Endowment Fund\, Taft Gardens and Nature Preserve was described for years as one of Ojai’s best-kept secrets. Not anymore! This botanical gem was featured 2022 in an L. A. Times article on “The 16 Most Beautiful and Inviting Public Gardens in Southern California” and also included in the RedBook Magazine list of “The 12 Most Beautiful Botanical Gardens in the United States.”  \nABOUT LANNY KAUFER:Lanny Kaufer of HerbWalks.com is celebrating 50 years of leading herb walks in 2026. He has been leading herb walks\, nature hikes\, and workshops in Ventura and Santa Barbara Counties since 1976\, educating hundreds of residents and visitors on the edible and medicinal flora of the area. He holds a biology degree from UC Santa Cruz and is the author of Medicinal Herbs of California: A Field Guide to Common Healing Plants (Falcon Guides\, 2021). Copies will be available for sale and signing after the walkabout.  \nLanny hosts the Ojai Herbal Symposium\, returning to Krotona Hill in Ojai as the Ojai Herbal Retreat on May 30\, 2026. He is on the faculty of the Osher Lifelong Learning Institute at California State University\, Channel Islands. He serves as consultant on medicinal plants for the Chumash Garden at the Ojai Valley Museum and at Swimmer Medicinal Garden in Playa Vista\, CA. 
URL:https://herbwalks.com/event/spring-equinox-walkabout-at-taft-gardens-nature-preserve-2/
LOCATION:Taft Gardens & Nature Preserve\, Ojai\, CA\, 93023\, United States
ATTACH;FMTTYPE=image/jpeg:https://herbwalks.com/wp-content/uploads/2024/01/4-Directions-Circle2-Alexandra-2-e1704158686747.jpg
ORGANIZER;CN="Taft Gardens & Nature Preserve":MAILTO:taftgardensvisitors@gmail.com
END:VEVENT
END:VCALENDAR