BEGIN:VCALENDAR
VERSION:2.0
PRODID:-//Ojai &amp; Southern California Herb Walks with Lanny Kaufer - ECPv6.15.20//NONSGML v1.0//EN
CALSCALE:GREGORIAN
METHOD:PUBLISH
X-WR-CALNAME:Ojai &amp; Southern California Herb Walks with Lanny Kaufer
X-ORIGINAL-URL:https://herbwalks.com
X-WR-CALDESC:Events for Ojai &amp; Southern California Herb Walks with Lanny Kaufer
REFRESH-INTERVAL;VALUE=DURATION:PT1H
X-Robots-Tag:noindex
X-PUBLISHED-TTL:PT1H
BEGIN:VTIMEZONE
TZID:America/Los_Angeles
BEGIN:DAYLIGHT
TZOFFSETFROM:-0800
TZOFFSETTO:-0700
TZNAME:PDT
DTSTART:20250309T100000
END:DAYLIGHT
BEGIN:STANDARD
TZOFFSETFROM:-0700
TZOFFSETTO:-0800
TZNAME:PST
DTSTART:20251102T090000
END:STANDARD
BEGIN:DAYLIGHT
TZOFFSETFROM:-0800
TZOFFSETTO:-0700
TZNAME:PDT
DTSTART:20260308T100000
END:DAYLIGHT
BEGIN:STANDARD
TZOFFSETFROM:-0700
TZOFFSETTO:-0800
TZNAME:PST
DTSTART:20261101T090000
END:STANDARD
BEGIN:DAYLIGHT
TZOFFSETFROM:-0800
TZOFFSETTO:-0700
TZNAME:PDT
DTSTART:20270314T100000
END:DAYLIGHT
BEGIN:STANDARD
TZOFFSETFROM:-0700
TZOFFSETTO:-0800
TZNAME:PST
DTSTART:20271107T090000
END:STANDARD
END:VTIMEZONE
BEGIN:VEVENT
DTSTART;TZID=America/Los_Angeles:20260329T090000
DTEND;TZID=America/Los_Angeles:20260329T120000
DTSTAMP:20260424T065144
CREATED:20260225T160003Z
LAST-MODIFIED:20260329T151645Z
UID:21143-1774774800-1774785600@herbwalks.com
SUMMARY:Wheeler Gorge Nature Hike
DESCRIPTION:Wheeler Gorge Nature Hike & Optional After-Party\n\n\n\n\n\n\n\n3/29/26: Registration is closed for this event.\n\n\n\nJump to registration\n\n\nPlease join me on Sunday\, March 29\, from 9:00 a.m. to 12:00 p.m. (including 20 minutes drive time each way) for a plant identification hike on the Wheeler Gorge Nature Trail\, a special place just 9 miles up scenic Highway 33 from Ojai. The trail loop is less than 1 mile long but features two distinct plant communities. \nStarting in the riparian habitat along a rushing mountain stream under a canopy of shade trees\, we’ll climb over the saddle into the sunny chaparral with long views of the surrounding mountains. There is a diversity of native plants to identify while demonstrating and discussing their many uses by foragers\, herbalists\, and naturalists for food\, herbal medicine\, first aid\, home remedies\, survival\, crafts\, ceremony and more. \nThis time of year we can expect to find Coast Live Oak\, White Alder\, Mugwort\, California Blackberry\, Chamise\, Black Sage\, Woolly Blue Curls\, Yerba Santa\, and Chaparral Currant\, among many others. Poison Oak will also be identified (and avoided). Participants will receive an email afterwards with a plant list (including common and scientific names) and other useful notes. \n\n \nTrailside discussion will include sustainable foraging\, Chumash plant uses\, and other topics generated by the participants. This is designated as a “nature hike” rather than an  “herb walk” because the trail includes a couple of short but steep stretches of rocky footing. Good balance and hiking shoes are required. \nWe will meet at Maricopa Plaza parking lot in Ojai at 8:45 a.m. for a 9:00 a.m. caravan/carpool to the trailhead. We’ll hike for two hours beginning at 9:30 and ending at approximately 11:30\, putting you back at Maricopa Plaza by 12 noon if you wish to head straight back. \nThe After-Party: Let me know if you’d like to join an optional after-party in the picnic area outside the Wheeler Gorge Visitor Center on the way back to town. We can gather with our sack lunches and hang out with like-minded folks. We can even build a campfire if it’s a chilly day. Fun in the forest! \nBefore the walk\, at the caravan meeting place\, I will have my mobile bookstore on display\, including copies of my book\, Medicinal Herbs of California\, available for sale and signing. The Visitor Center also carries it. \nThe cost of the hike for all ages of participants is $25. Please email me if you have questions about bringing children. \nNo dogs or smoking\, please. \nThis event in the Los Padres National Forest is presented by Herb Walks with Lanny Kaufer under a Special Use Permit from the U. S. Forest Service for wilderness outfitters and guides. Herb Walks with Lanny Kaufer is an equal opportunity service provider. \nMy Cancellation Policy: I will refund your payment if you notify me up to 72 hours (3 days) before the start of the event. After that I will make every effort to fill your space (and I’m usually successful) but cannot guarantee. \nMy Weather Policy: Walks and hikes will go on RAIN OR SHINE unless there is a steady downpour on the morning of the event\, probability of thunderstorm\, or a solid forecast of either the day before. Light rain or drizzle will not result in cancellation on my part. I will update registrants by email and text\, as needed\, and issue refunds if I need to cancel because of the weather. \n\n\n\n\n\n\n\n\n\n\nRegistration\n\n\n\nPlease REGISTER HERE FIRST before completing payment below.\n\n\n\n	Notice: JavaScript is required for this content.\n\n\n    \n\n\n        \n        \n        \n\n\n\n\n\n\nTICKETS\n\n\n\nPlease be sure to REGISTER above before completing payment to secure your space.\n\n\n\n\n\n\n\nNote: Online payment includes a PayPal fee. If you prefer\, when you register you can request instructions for mailing a payment of $25/person.Cancellation policy: I will refund your payment if you notify me up to 72 hours (3 days) before the start of the event. After that I will make every effort to fill your space (and I’m usually successful) but cannot guarantee.
URL:https://herbwalks.com/event/wheeler-gorge-nature-hike-4/
LOCATION:Maricopa Plaza for caravan to trailhead\, 1207 Maricopa Hwy.\, Ojai\, CA\, 93023\, United States
ATTACH;FMTTYPE=image/jpeg:https://herbwalks.com/wp-content/uploads/2024/01/Wheeler-Gorge-resized-e1704566092171.jpeg
ORGANIZER;CN="Lanny Kaufer":MAILTO:register@herbwalks.com
END:VEVENT
END:VCALENDAR