BEGIN:VCALENDAR
VERSION:2.0
PRODID:-//Ojai &amp; Southern California Herb Walks with Lanny Kaufer - ECPv6.15.20//NONSGML v1.0//EN
CALSCALE:GREGORIAN
METHOD:PUBLISH
X-WR-CALNAME:Ojai &amp; Southern California Herb Walks with Lanny Kaufer
X-ORIGINAL-URL:https://herbwalks.com
X-WR-CALDESC:Events for Ojai &amp; Southern California Herb Walks with Lanny Kaufer
REFRESH-INTERVAL;VALUE=DURATION:PT1H
X-Robots-Tag:noindex
X-PUBLISHED-TTL:PT1H
BEGIN:VTIMEZONE
TZID:America/Los_Angeles
BEGIN:DAYLIGHT
TZOFFSETFROM:-0800
TZOFFSETTO:-0700
TZNAME:PDT
DTSTART:20250309T100000
END:DAYLIGHT
BEGIN:STANDARD
TZOFFSETFROM:-0700
TZOFFSETTO:-0800
TZNAME:PST
DTSTART:20251102T090000
END:STANDARD
BEGIN:DAYLIGHT
TZOFFSETFROM:-0800
TZOFFSETTO:-0700
TZNAME:PDT
DTSTART:20260308T100000
END:DAYLIGHT
BEGIN:STANDARD
TZOFFSETFROM:-0700
TZOFFSETTO:-0800
TZNAME:PST
DTSTART:20261101T090000
END:STANDARD
BEGIN:DAYLIGHT
TZOFFSETFROM:-0800
TZOFFSETTO:-0700
TZNAME:PDT
DTSTART:20270314T100000
END:DAYLIGHT
BEGIN:STANDARD
TZOFFSETFROM:-0700
TZOFFSETTO:-0800
TZNAME:PST
DTSTART:20271107T090000
END:STANDARD
END:VTIMEZONE
BEGIN:VEVENT
DTSTART;TZID=America/Los_Angeles:20260418T090000
DTEND;TZID=America/Los_Angeles:20260418T120000
DTSTAMP:20260424T065247
CREATED:20260327T123639Z
LAST-MODIFIED:20260418T145509Z
UID:21287-1776502800-1776513600@herbwalks.com
SUMMARY:Sisar Creek Nature Hike
DESCRIPTION:Sisar Creek Nature Hike\n\n\n\n\n\n\n\n                                   Sisar Canyon Trail. Photo: Lanny Kaufer \n\n\n\n4/18/26: Registration is now closed for this event.\n\n\n\nJUMP TO REGISTRATION\n\n\n\n\n\n\n\n🎧 Click below: Full-length audio of “Sisar Creek” by the April Hendrix Band \n\n\n\n\n\n\n\nThis beautiful oak-forested trail along Sisar Creek is one of my all-time favorites in the Ojai Valley. It’s actually located in the Upper Ojai Valley at the foot of the monumental Topa Topa Bluffs. Please join me for a Nature Hike there on Saturday\, April 18\, from 9 a.m. to 12:00 p.m. We will see and smell aromatic California Bay trees along with several other riparian trees\, including Bigleaf Maple\, not often found at this lower elevation. We’ll search for the elusive and uncommon Sweet Cicely and identify a wide variety of edible and medicinal plants. Expect butterflies; the spring wildflowers are busting out all over. \n\n\n\nThis hike is fairly easy but I classify it as a “nature hike” instead of an “herb walk” because of elevation gain at the beginning and a short creek crossing across boulders or through the shallow water. \n\n\n\nI operate in the Los Padres National Forest under a Special Use Permit from the Ojai Ranger District Office of the U.S. Forest Service designed for guides who provide recreational and interpretive services to the public. As I do on all my walks and hikes\, I will demonstrate and discuss the modern and ancient uses of wild plants. Poisonous plants will also be identified. \n\n\n\nTrailside discussion will include topics such as the difference between native and naturalized plants\, the role of humans in the ecological balance\, sustainable foraging\, and other topics generated by the participants. I’ve been leading informative and entertaining Herb Walks and Nature Hikes to Sisar Canyon and other locations in Southern California since 1976. \n\n\n\nThe cost is $25 for all ages.  Children 12-and-under are free\, one per adult\, by prior arrangement. No dogs or smoking\, please. Registrants will receive a confirmation email with directions and all necessary info about a week before the hike and a follow-up email afterwards with a plant list and other info. \n\n\n\nMy 2021 book\, Medicinal Herbs of California\, along with the rest of my mobile bookshop\, will be available where we park in the morning for sale and signing. \n\n\n\nWeather policy: Walks and hikes will go on RAIN OR SHINE unless there is a steady downpour on the morning of the event\, probability of thunderstorm\, or a solid forecast of either the day before. Light rain or drizzle typically will not result in cancellation on my part. I will update registrants by email and text\, as needed\, and issue refunds if I need to cancel because of the weather. \n\n\n\nDog Policy: Years of experience have taught me that dogs on herb walks\, even on a leash\, are not a good fit. They can transfer poison oak oil on their fur\, may accidentally frighten another hiker who has a fear of dogs\, or may end up in a confrontation with another dog\, all despite the best intentions of the owner and the pet. That being said\, I do allow certified service dogs \n\n\n\nCancellation policy: I will refund your payment if you notify me up to 72 hours (3 days) before the start of the event. After that I will make every effort to fill your space (and I’m usually successful) but cannot guarantee.  \n\n\n\n\n\n\n\nREGISTRATION\n\n\n\nPlease REGISTER HERE FIRST before completing payment below.\n\n\n\n	Notice: JavaScript is required for this content.\n\n\n    \n\n\n        \n        \n        \n\n\n\n\n\n\nTICKETS\n\n\n\nIf you haven’t already\, please REGISTER FIRST above before completing payment below.\n\n\n\n\n\n\n\n\n\n\n\n\n\n\n\n\n\nNote: Online payment includes a PayPal fee. If you prefer\, when you register you can email register@herbwalks.com to request instructions for mailing a payment of $25\, as long as there is still time for mail delivery.
URL:https://herbwalks.com/event/sisar-creek-nature-hike/
ATTACH;FMTTYPE=image/jpeg:https://herbwalks.com/wp-content/uploads/2025/05/P1030360-2-e1747451951921.avif
END:VEVENT
END:VCALENDAR