BEGIN:VCALENDAR
VERSION:2.0
PRODID:-//Ojai &amp; Southern California Herb Walks with Lanny Kaufer - ECPv6.15.20//NONSGML v1.0//EN
CALSCALE:GREGORIAN
METHOD:PUBLISH
X-ORIGINAL-URL:https://herbwalks.com
X-WR-CALDESC:Events for Ojai &amp; Southern California Herb Walks with Lanny Kaufer
REFRESH-INTERVAL;VALUE=DURATION:PT1H
X-Robots-Tag:noindex
X-PUBLISHED-TTL:PT1H
BEGIN:VTIMEZONE
TZID:America/Los_Angeles
BEGIN:DAYLIGHT
TZOFFSETFROM:-0800
TZOFFSETTO:-0700
TZNAME:PDT
DTSTART:20250309T100000
END:DAYLIGHT
BEGIN:STANDARD
TZOFFSETFROM:-0700
TZOFFSETTO:-0800
TZNAME:PST
DTSTART:20251102T090000
END:STANDARD
BEGIN:DAYLIGHT
TZOFFSETFROM:-0800
TZOFFSETTO:-0700
TZNAME:PDT
DTSTART:20260308T100000
END:DAYLIGHT
BEGIN:STANDARD
TZOFFSETFROM:-0700
TZOFFSETTO:-0800
TZNAME:PST
DTSTART:20261101T090000
END:STANDARD
BEGIN:DAYLIGHT
TZOFFSETFROM:-0800
TZOFFSETTO:-0700
TZNAME:PDT
DTSTART:20270314T100000
END:DAYLIGHT
BEGIN:STANDARD
TZOFFSETFROM:-0700
TZOFFSETTO:-0800
TZNAME:PST
DTSTART:20271107T090000
END:STANDARD
END:VTIMEZONE
BEGIN:VEVENT
DTSTART;TZID=America/Los_Angeles:20260530T090000
DTEND;TZID=America/Los_Angeles:20260530T170000
DTSTAMP:20260424T083437
CREATED:20260401T180753Z
LAST-MODIFIED:20260401T180756Z
UID:21341-1780131600-1780160400@herbwalks.com
SUMMARY:Ojai Herbal Retreat
DESCRIPTION:Ojai Herbal Retreat\n\n\n\n\n\n\n\n \n\n\n\nImmerse yourself in plant wisdom\, gentle practices\, and meaningful community. This in-person gathering Saturday\, May 30\, on the forested grounds of Krotona Institute brings together skilled herbalists for outdoor workshops\, practical knowledge\, and a nourishing retreat in the beautiful Ojai landscape. Vegetarian lunch options are available to be delivered\, allowing  you  to remain in this special meditative environment for the entire day.  \n\n\n\nAttendees will rotate through four outdoor stations for hands-on workshops\, including \n\n\n\n\n“Creative Rituals for Everyday Beauty” with Jiling Lin (Acupuncturist\, Herbalist\, Artist)\n\n\n\n“Grounding Through Touch: Herbal Oils & Self-Massage Rituals” with Emily Watson (Certified Clinical Herbalist; Certified Clinical Nutritionist; Founder/Director\, Artemisia Academy of Herbal Arts & Healing\, )\n\n\n\n“Rest\, Reset and Restore” with Carol Wade (Registered Herbalist (AHG); Founder/Director\, Ojai School of Herbal Studies; Founder\, Earth Island Medicinal Herb Garden)\n\n\n\n“Meet the Global Plant Community of Krotona Hill:” An Herb Walk with Lanny Kaufer (Retreat Director\, Author of Medicinal Herbs of California\, Founder of Herb Walks [1976])\n\n\n\n\nA relaxed 1.5 hour lunch break will allow for time to enjoy the peace and beauty of the Krotona campus. Admission tickets include an option to pre-pay for a vegetarian lunch to be delivered from one of 3 participating restaurants. That convenience will allow you to spend the entire day in retreat without having to run into town. \n\n\n\nVisit OjaiHerbal.org for all the details and registration. Early-bird prices in effect through April 30.
URL:https://herbwalks.com/event/ojai-herbal-retreat/
END:VEVENT
END:VCALENDAR