BEGIN:VCALENDAR
VERSION:2.0
PRODID:-//Ojai &amp; Southern California Herb Walks with Lanny Kaufer - ECPv6.15.20//NONSGML v1.0//EN
CALSCALE:GREGORIAN
METHOD:PUBLISH
X-WR-CALNAME:Ojai &amp; Southern California Herb Walks with Lanny Kaufer
X-ORIGINAL-URL:https://herbwalks.com
X-WR-CALDESC:Events for Ojai &amp; Southern California Herb Walks with Lanny Kaufer
REFRESH-INTERVAL;VALUE=DURATION:PT1H
X-Robots-Tag:noindex
X-PUBLISHED-TTL:PT1H
BEGIN:VTIMEZONE
TZID:America/Los_Angeles
BEGIN:DAYLIGHT
TZOFFSETFROM:-0800
TZOFFSETTO:-0700
TZNAME:PDT
DTSTART:20180311T100000
END:DAYLIGHT
BEGIN:STANDARD
TZOFFSETFROM:-0700
TZOFFSETTO:-0800
TZNAME:PST
DTSTART:20181104T090000
END:STANDARD
BEGIN:DAYLIGHT
TZOFFSETFROM:-0800
TZOFFSETTO:-0700
TZNAME:PDT
DTSTART:20190310T100000
END:DAYLIGHT
BEGIN:STANDARD
TZOFFSETFROM:-0700
TZOFFSETTO:-0800
TZNAME:PST
DTSTART:20191103T090000
END:STANDARD
BEGIN:DAYLIGHT
TZOFFSETFROM:-0800
TZOFFSETTO:-0700
TZNAME:PDT
DTSTART:20200308T100000
END:DAYLIGHT
BEGIN:STANDARD
TZOFFSETFROM:-0700
TZOFFSETTO:-0800
TZNAME:PST
DTSTART:20201101T090000
END:STANDARD
END:VTIMEZONE
BEGIN:VEVENT
DTSTART;TZID=America/Los_Angeles:20191102T100000
DTEND;TZID=America/Los_Angeles:20191102T150000
DTSTAMP:20260425T134856
CREATED:20191001T210339Z
LAST-MODIFIED:20191030T153722Z
UID:6789-1572688800-1572706800@herbwalks.com
SUMMARY:Acorn Processing Workshop with Christopher Nyerges
DESCRIPTION:REGISTER\nPLEASE NOTE: This workshop is currently full but we are starting a waiting list in the event someone has to cancel. Please use the REGISTER link above. We will keep track of time of waiting list registrations and send a PayPal link if something opens up. \nJoin me and special guest author and forager Christopher Nyerges for an Acorn Processing Workshop in Ojai on Saturday\, November 2\, to learn all aspects foraging\, processing and preparing acorns. The workshop will begin with a morning plant walk on the Ventura River Preserve followed by an afternoon workshop under a Coast Live Oak at Euterpe Farms. In addition to processing acorns onsite\, participants will learn to identify oaks and other useful plants\, make cordage from yucca\, see an introductory demonstration of primitive firemaking\, and other activities prepared by the multi-talented Nyerges.  \nChristopher Nyerges is an author\, forager\, survivalist and ethnobotanist with a lifelong interest in how native peoples lived off the land. He has been teaching classes and leading field trips since 1974 to over 40\,000 students. Nyerges has authored nearly two dozen books\, including Guide to Wild Foods\, Foraging California\, Nuts and Berries of California\, How to Survive Anywhere\, Extreme Simplicity\, and many others.  He most recently was the editor of American Survival Guide magazine\, and served as editor of Wilderness Way magazine for 7 years. He has written several thousand newspaper and magazine articles in such publications as the Los Angeles Times\, Pasadena Star News\, Pasadena Weekly\, Whole Life Times\, Countryside\, Mother Earth News\, Acres USA\, American  Survival Guide\, and others. \nNyerges has appeared on the late Huell Howser’s public television series\, KCET’s “Life and Times\,” and National Geographic’s “Doomsday Preppers.” For two years\, Nyerges appeared on Fox TV’s “X Show\,” where he demonstrated survival skills on the streets of Los Angeles. He currently serves as a consultant to the “Naked and Afraid” show on Discovery.  Nyerges’s web site is www.SchoolofSelf-Reliance.com. \nPlease note: This workshop will go on RAIN OR SHINE with the exception of a heavy downpour in the morning and/or a 100% chance of heavy rain that day. No dogs or smoking\, please. \nThe cost of the workshop including all materials is $75. To register\, please use the REGISTER button at top and bottom of this page or call 805-646-6281.  Then\, if you move to the top of the waiting list\, I will send you a PayPal link to secure your space. \nREGISTER
URL:https://herbwalks.com/event/acorn-processing-workshop-with-christopher-nyerges/
LOCATION:Euterpe Farms\, 587 S. Rice Rd.\, Ojai\, CA\, 93023\, United States
ATTACH;FMTTYPE=image/jpeg:https://herbwalks.com/wp-content/uploads/2019/10/Christopher-VRP-resized.jpg
ORGANIZER;CN="Lanny Kaufer":MAILTO:register@herbwalks.com
END:VEVENT
BEGIN:VEVENT
DTSTART;TZID=America/Los_Angeles:20191019T100000
DTEND;TZID=America/Los_Angeles:20191019T120000
DTSTAMP:20260425T134856
CREATED:20191001T212908Z
LAST-MODIFIED:20191001T212949Z
UID:6801-1571479200-1571486400@herbwalks.com
SUMMARY:"All About California Native Plants" Free Seminar
DESCRIPTION:
URL:https://herbwalks.com/event/all-about-california-native-plants-free-seminar/
LOCATION:Green Thumb Nursery\, 1899 S. Victoria Ave.\, Ventura\, CA\, 93033\, United States
ATTACH;FMTTYPE=image/jpeg:https://herbwalks.com/wp-content/uploads/2019/09/Green-Thumb-seminar-edit-square.jpeg
END:VEVENT
BEGIN:VEVENT
DTSTART;TZID=America/Los_Angeles:20191013T170000
DTEND;TZID=America/Los_Angeles:20191013T200000
DTSTAMP:20260425T134856
CREATED:20191001T202804Z
LAST-MODIFIED:20210207T193644Z
UID:6782-1570986000-1570996800@herbwalks.com
SUMMARY:Full Moon Sunset Herb Walk
DESCRIPTION:REGISTER\nOn Sunday evening\, October 13\, from 5:00 to 8:00 p.m.\, I’ll lead another Herb Walk up to a vista point above the Ojai Valley where we can watch the simultaneous sunset and moonrise. The sun will set at 6:27 p.m. and the full moon will rise at 6:47 p.m.\, giving us a nice window of time to take it all in. Following the walk is an optional “after-party” at Azu Restaurant and Ojai Valley Brewery for delicious food and native plant infused beers and non-alcoholic beverages \nThe Ventura County Board of Supervisors unanimously passed a resolution on September 24\, 2019\, proclaiming the Second Monday of October as Indigenous Peoples’ Day in Ventura County\, joining over 130 other cities\, counties and states who have taken that action. In honor of this walk occurring on the eve of Indigenous Peoples’ Day (Monday\, October 14)\, I have invited a special guest\, Chumash elder Patrick Tumamait\, to join us and begin the walk with the Ojai Chumash Welcoming Song passed on to him by his father Vincent Tumamait. I always start my walks and hikes in Chumash territory with that song which I learned from his sister Julie Tumamait-Stenslie so it will be an honor to have Pat lead the song for us. Also\, I will be donating a portion of the proceeds from the walk to the Barbareño/Ventureño Band of Mission Indians. \nWe’ll meet at the Park-and-Ride lot downtown between 4:30 and 4:45 p.m. and carpool to the trailhead to minimize the crowded parking situation there. Then we’ll gradually walk about 1 mile to the vista point\, stopping along the way to meet some valuable native plants including: \nCoastal Sagebrush\nElderberry\nHollyleaf Cherry\nPurple Sage and\nToyon \nAfter witnessing the setting of the sun and rising of the moon\, we’ll walk back to the trailhead by remaining daylight\, moonlight\, and flashlight\, returning to the Park-and-Ride by 8:00 p.m. On our August walk we saw a tarantula\, a bat\, an owl\, and heard the distinctive songs of at least two species of crickets on our moonlit return to the trailhead. \nAt 8 p.m. you’re invited to join me and Rondia across the street from the Park-and-Ride lot for beverages\, appetizers or dinner at the combined Azu Restaurant & Ojai Valley Brewery where brewmaster Jeremy Haffner has created some truly delicious lager-style craft beers and ales using some of the same local plants found earlier on the trail. His brews change with the seasons and reflect the plants of Ojai. Three staples you’re likely to find on his list any time of year are Sugar Bush IPA\, brewed with wild local Ojai “Sugar Bush” Sumac; White Pixie Ale\, brewed with Pixie tangerine zests and orchard blossoms; and an amazing Chaparral Ale flavored with White and Black Sage and local Sagebrush instead of the usual Hops. Jeremy describes it as “built to mimic the scent on Shelf Road.” That’s where we’ll be walking! Non-alcoholic offerings also change with the seasons and may include an Elderflower-Blackberry Spritzer. \nThe cost is $25 for adults\, $20 for seniors 62-and older\, and $15 for students 13-17. Kids 5-12 can come along free\, one per adult\, by prior arrangement. There is no pre-payment required for this walk\, just your promise to let me know if your plans change. If it fills up\, priority will be given to those who registered in advance. \nPlease use the REGISTER button at top or bottom of this page to sign up. Registrants will receive a confirmation email with all necessary info a few days prior and a follow-up email afterwards with a list of all plants and wildlife seen. No dogs or smoking\, please. \nREGISTER
URL:https://herbwalks.com/event/full-moon-sunset-herb-walk/
LOCATION:Ojai Park-and-Ride for carpool to trailhead\, 500 E. Ojai Ave.\, Ojai\, 93023\, United States
ATTACH;FMTTYPE=image/jpeg:https://herbwalks.com/wp-content/uploads/2019/10/August2019-SunMoon-silhouettes-Sam-Hoapili-resized-640.jpg
ORGANIZER;CN="Lanny Kaufer":MAILTO:register@herbwalks.com
END:VEVENT
END:VCALENDAR