BEGIN:VCALENDAR
VERSION:2.0
PRODID:-//Ojai &amp; Southern California Herb Walks with Lanny Kaufer - ECPv6.15.20//NONSGML v1.0//EN
CALSCALE:GREGORIAN
METHOD:PUBLISH
X-ORIGINAL-URL:https://herbwalks.com
X-WR-CALDESC:Events for Ojai &amp; Southern California Herb Walks with Lanny Kaufer
REFRESH-INTERVAL;VALUE=DURATION:PT1H
X-Robots-Tag:noindex
X-PUBLISHED-TTL:PT1H
BEGIN:VTIMEZONE
TZID:America/Los_Angeles
BEGIN:DAYLIGHT
TZOFFSETFROM:-0800
TZOFFSETTO:-0700
TZNAME:PDT
DTSTART:20240310T100000
END:DAYLIGHT
BEGIN:STANDARD
TZOFFSETFROM:-0700
TZOFFSETTO:-0800
TZNAME:PST
DTSTART:20241103T090000
END:STANDARD
BEGIN:DAYLIGHT
TZOFFSETFROM:-0800
TZOFFSETTO:-0700
TZNAME:PDT
DTSTART:20250309T100000
END:DAYLIGHT
BEGIN:STANDARD
TZOFFSETFROM:-0700
TZOFFSETTO:-0800
TZNAME:PST
DTSTART:20251102T090000
END:STANDARD
BEGIN:DAYLIGHT
TZOFFSETFROM:-0800
TZOFFSETTO:-0700
TZNAME:PDT
DTSTART:20260308T100000
END:DAYLIGHT
BEGIN:STANDARD
TZOFFSETFROM:-0700
TZOFFSETTO:-0800
TZNAME:PST
DTSTART:20261101T090000
END:STANDARD
END:VTIMEZONE
BEGIN:VEVENT
DTSTART;TZID=America/Los_Angeles:20251007T173000
DTEND;TZID=America/Los_Angeles:20251007T200000
DTSTAMP:20260424T140152
CREATED:20250830T233436Z
LAST-MODIFIED:20250831T214151Z
UID:18198-1759858200-1759867200@herbwalks.com
SUMMARY:October Supermoon Sunset Nature Hike
DESCRIPTION:October Supermoon Sunset Nature Hike\n\n\n\n\n\n\n\n              Full moon rising over Topa Topa Bluffs. Photo: Carla Cahill \n\n\n\nJUMP TO REGISTRATION\n\n\n\nWhen a full moon takes place while the moon is near its closest approach to Earth\, it is called a Super Full Moon or Supermoon. On Tuesday evening\, October 7\, from 5:30:00 to 8:00 p.m.\, my wife Rondia and I will lead a Supermoon Sunset Nature Hike to a vista point above the Ojai Valley where we can watch the rising of the Super Full Moon over the iconic Topa Topa Bluffs to the east and the sunset afterglow over the mountains to the west. \n\n\n\n\n\n\n\nSunset over Ojai Valley in October\, 2023\, during full moon nature hike. Photo: Jenni Campbell \n\n\n\nFrom the trailhead we’ll gradually walk about 1.5 miles on a well used dirt road with gradual elevation gain to the vista point\, stopping along the way to meet some valuable edible and medicinal plants including\, among others: \n\n\n\nCalifornia BuckwheatPurple SageCoastal SagebrushPassion FruitYucca andBrickellbush \n\n\n\nAfter witnessing the sunset and moonrise\, we’ll walk back to the trailhead by remaining daylight\, moonlight\, and flashlight\, returning to the trailhead at about 8:00. Registrants will receive instructions on where to park\, what to bring\, etc. Afterwards\, they’ll get an email with a plant list and other notes. \n\n\n\nMy 2021 book\, Medicinal Herbs of California\, will be available at the trailhead for sale and signing. \n\n\n\nIn addition to the adult tickets ($35)\, tickets for students 13-17 ($25) and children 6-12 ($15) are also available. Children 5 and younger can attend free\, one per adult. One supervising adult must accompany each child 12 years old or younger. \n\n\n\nMY WEATHER POLICY: Walks and hikes will go on RAIN OR SHINE unless there is a steady downpour on the morning of the event\, probability of thunderstorm\, or a solid forecast of either the day before. Light rain or drizzle will not result in cancellation on my part. I will update registrants by email and text\, as needed\, and issue refunds if I need to cancel because of the weather. \n\n\n\nMY CANCELLATION POLICY: I will refund your payment if you notify me up to 72 hours (3 days) before the start of the event. After that I will make every effort to fill your space (and I’m usually successful) but cannot guarantee. \n\n\n\nREGISTRATION\n\n\n\nPlease REGISTER HERE FIRST before completing payment below. \n\n\n\n	Notice: JavaScript is required for this content.\n\n\n    \n\n\n        \n        \n        \n\n\n\n\n\n\nTICKETS\n\n\n\nIf you haven’t already done so up above\, please REGISTER FIRST before completing payment below.
URL:https://herbwalks.com/event/october-supermoon-sunset-nature-hike/
ATTACH;FMTTYPE=image/jpeg:https://herbwalks.com/wp-content/uploads/2025/08/Moon-rising-topatopa-09420-e1756595106462.avif
ORGANIZER;CN="Lanny Kaufer":MAILTO:register@herbwalks.com
END:VEVENT
BEGIN:VEVENT
DTSTART;TZID=America/Los_Angeles:20251026T100000
DTEND;TZID=America/Los_Angeles:20251026T120000
DTSTAMP:20260424T140152
CREATED:20250831T224244Z
LAST-MODIFIED:20251026T150853Z
UID:18229-1761472800-1761480000@herbwalks.com
SUMMARY:Carpinteria Salt Marsh Herb Walk
DESCRIPTION:Carpinteria Salt Marsh Herb Walk\n\n\n\n\n\n \n\n\n\n\n\nPLEASE NOTE: Registration is closed for this event (10/26/25\, 8:10 a.m.)\n\n\n\nJUMP TO REGISTRATION\n\n\n\nOn Sunday\, October 26\, from 10 a.m. to 12 p.m. we will return to the Carpinteria Salt Marsh Nature Park for the second and last time this year. Also known as El Estero\, the Nature Park is a rare saltwater wetland in Southern California. Nearly destroyed by development\, the remaining estuary was restored in the late 1990s by a group of concerned citizens along with the City of Carpinteria\, UCSB\, and the Land Trust for Santa Barbara County. Completed in 1997\, the 8-acre portion of the marsh owned by the City of Carpinteria was renamed the Carpinteria Salt Marsh Nature Park. \n\n\n\nLeopard Shark. Video: Malia Smith\n\n\n\nThe park includes walking trails and interpretive signage. It is home to hundreds of migrating birds and other wildlife\, including exotic sharks\, rays and native fish when conditions are right. Depending on the tide level we may be able to see marine wildlife like the Shovelnose Guitarfish\, Round Stingrays\, Smoothhound Sharks or the Leopard Shark shown in Malia Smith’s video from our walk there in 2023. \n\n\n\nThere is a great variety of edible and medicinal plants of the Coastal Strand and Coastal Sage Scrub plant communities for us to see and learn from. Useful native plants there include Blue Elderberry\, California Blackberry\, Grindelia\, Lemonade Berry\, Mugwort\, Pickleweed\, Wild Rose\, and Coastal Sagebrush. \n\n\n\nDue to the sensitivity of the habitat\, dogs are prohibited. No smoking\, please. \n\n\n\nThe cost is $25 for all ages.  Children 12-and-under are free\, one per adult\, by prior arrangement. No dogs or smoking\, please. Registrants will receive a confirmation email with directions and all necessary info about a week before the hike and a follow-up email afterwards with a plant list and other info. \n\n\n\nMy 2021 book\, Medicinal Herbs of California\, along with the rest of my mobile bookshop\, will be available where we park in the morning for sale and signing. \n\n\n\nREGISTRATION\n\n\n\nPlease REGISTER HERE FIRST before completing payment below.\n\n\n\n	Notice: JavaScript is required for this content.\n\n\n    \n\n\n        \n        \n        \n\n\nTICKETS\n\n\n\nIf you haven’t already\, please REGISTER FIRST above before completing payment below.\n\n\n\n\n\n \n\n\n\nNote: Online payment includes a PayPal fee. If you prefer\, when you register you can email register@herbwalks.com to request instructions for mailing a payment of $25\, as long as there is still time for mail delivery. \n\n\n\nCancellation policy: I will refund your payment if you notify me up to 72 hours (3 days) before the start of the event. After that I will make every effort to fill your space (and I’m usually successful) but cannot guarantee.
URL:https://herbwalks.com/event/carpinteria-salt-marsh-herb-walk-4-3/
LOCATION:Carpinteria Salt Marsh Nature Park\, 123 Ash Ave.\, Carpinteria\, 93013\, United States
ATTACH;FMTTYPE=image/jpeg:https://herbwalks.com/wp-content/uploads/2021/06/IMG_9313-1-scaled-e1622677210893.jpg
ORGANIZER;CN="Lanny Kaufer":MAILTO:register@herbwalks.com
END:VEVENT
END:VCALENDAR